BEGIN:VCALENDAR
VERSION:2.0
PRODID:-//ChamberMaster//Event Calendar 2.0//EN
METHOD:PUBLISH
X-PUBLISHED-TTL:P3D
REFRESH-INTERVAL:P3D
CALSCALE:GREGORIAN
BEGIN:VEVENT
DTSTART:20191111T130000Z
DTEND:20191111T143000Z
X-MICROSOFT-CDO-ALLDAYEVENT:FALSE
SUMMARY:10th Annual Chapin American Legion Veterans Day Parade
DESCRIPTION:Veterans Day Parade will start at 8:10 a.m. from Boland's Ave Hardware (gather in the parking lot no later than 8:00 a.m.) with police escort to the Library (short presentation at the Veterans Memorial from 8:15 a.m. - 8:30 a.m.) Hardee's\, BI-LO\, Food Lion\, Chapin Intermediate School and on the Chapin Elementary School by 8:50 a.m. Light refreshments will be served immediately following the celebration.
X-ALT-DESC;FMTTYPE=text/html:Veterans Day Parade will start at 8:10 a.m. from Boland&#39\;s Ave Hardware (gather in the parking lot no later than 8:00 a.m.) with police escort to the Library (short presentation at the Veterans Memorial from 8:15 a.m. - 8:30 a.m.) Hardee&#39\;s\, BI-LO\, Food Lion\, Chapin Intermediate School and on the Chapin Elementary School by 8:50 a.m. Light refreshments will be served immediately following the celebration.&nbsp\;
LOCATION:Starting Point Boland's Ace Hardware - 745 Chapin Road\, Chapin
UID:e.1644.3557
SEQUENCE:3
DTSTAMP:20260425T213444Z
URL:https://business.chapinchamber.com/events/details/10th-annual-chapin-american-legion-veterans-day-parade-3557
END:VEVENT

END:VCALENDAR
