BEGIN:VCALENDAR
VERSION:2.0
PRODID:-//ChamberMaster//Event Calendar 2.0//EN
METHOD:PUBLISH
X-PUBLISHED-TTL:P3D
REFRESH-INTERVAL:P3D
CALSCALE:GREGORIAN
BEGIN:VEVENT
DTSTART:20191115T233000Z
DTEND:20191116T030000Z
X-MICROSOFT-CDO-ALLDAYEVENT:FALSE
SUMMARY:2019 Chapin Chamber Annual Awards Gala & Silent Auction
DESCRIPTION:Please join us for the 2019 Chapin Chamber Annual Awards Gala & Silent Auction \n\non Friday November 15th at Segra Park! \n\nEnjoy a cocktail hour while perusing our amazing Silent Auction items and then \n\njoin us for a seated dinner while we recognize the accomplishments of our outstanding Chamber Members during our awards ceremony. \n\nWe will finish the evening with music\, dancing\, and of course - a photobooth! \n\nAttire is Black-Tie Optional\n\nHotel room blocks are available downtown at Aloft\,\n\nHyatt and Hampton Inn.
X-ALT-DESC;FMTTYPE=text/html:<div style="color: rgb(64\, 63\, 66)\; font-family: Arial\, Verdana\, Helvetica\, sans-serif\; font-size: 14px\; white-space: pre-wrap\; background-color: rgb(255\, 255\, 255)\; text-align: center\;"><span style="color: rgb(0\, 0\, 0)\;">Please join us for the 2019 Chapin Chamber Annual Awards Gala &amp\; Silent Auction </span></div>\n\n<div style="color: rgb(64\, 63\, 66)\; font-family: Arial\, Verdana\, Helvetica\, sans-serif\; font-size: 14px\; white-space: pre-wrap\; background-color: rgb(255\, 255\, 255)\; text-align: center\;"><span style="color: rgb(0\, 0\, 0)\;">on Friday November 15th at Segra Park! </span></div>\n\n<div style="color: rgb(64\, 63\, 66)\; font-family: Arial\, Verdana\, Helvetica\, sans-serif\; font-size: 14px\; white-space: pre-wrap\; background-color: rgb(255\, 255\, 255)\; text-align: center\;"><span style="color: rgb(0\, 0\, 0)\;">Enjoy a cocktail hour while perusing our amazing Silent Auction items and then </span></div>\n\n<div style="color: rgb(64\, 63\, 66)\; font-family: Arial\, Verdana\, Helvetica\, sans-serif\; font-size: 14px\; white-space: pre-wrap\; background-color: rgb(255\, 255\, 255)\; text-align: center\;"><span style="color: rgb(0\, 0\, 0)\;">join us for a seated dinner while we recognize the accomplishments of our outstanding Chamber Members during our awards ceremony. </span></div>\n\n<div style="color: rgb(64\, 63\, 66)\; font-family: Arial\, Verdana\, Helvetica\, sans-serif\; font-size: 14px\; white-space: pre-wrap\; background-color: rgb(255\, 255\, 255)\; text-align: center\;"><span style="color: rgb(0\, 0\, 0)\;">We will finish the evening with music\, dancing\, and of course - a photobooth!&nbsp\;</span></div>\n\n<div style="color: rgb(64\, 63\, 66)\; font-family: Arial\, Verdana\, Helvetica\, sans-serif\; font-size: 14px\; white-space: pre-wrap\; background-color: rgb(255\, 255\, 255)\; text-align: center\;"><span style="color: rgb(0\, 0\, 0)\;">Attire is Black-Tie Optional<br />\nHotel room blocks are available downtown at Aloft\,<br />\nHyatt and Hampton Inn.&nbsp\;</span></div>\n
LOCATION:Segra Park - 1640 Freed Street\, Columbia SC
UID:e.1644.2545
SEQUENCE:3
DTSTAMP:20260425T212136Z
URL:https://business.chapinchamber.com/events/details/2019-chapin-chamber-annual-awards-gala-silent-auction-2545
END:VEVENT

END:VCALENDAR
