BEGIN:VCALENDAR
VERSION:2.0
PRODID:-//ChamberMaster//Event Calendar 2.0//EN
METHOD:PUBLISH
X-PUBLISHED-TTL:P3D
REFRESH-INTERVAL:P3D
CALSCALE:GREGORIAN
BEGIN:VEVENT
DTSTART;VALUE=DATE:20190516
DTEND;VALUE=DATE:20190517
TRANSP:TRANSPARENT
X-MICROSOFT-CDO-ALLDAYEVENT:TRUE
SUMMARY:AllSouth FCU Soldiers and Vets Golf Tournament
DESCRIPTION:Soldiers & Vets Charity Golf Tournament \n\n \n\nAllSouth Federal Credit Union will host its annual Soldiers & Vets Charity Golf Tournament \n\nThursday\, May 16th. \n\nThis year's beneficiary is the\n\n Friends of Fisher House\, Columbia\, SC.\n\n \n\nNot a golfer? Please consider sponsoring a soldier.\n\nThe early bird deadline is fast approaching. \n\nRegister today!\n\n \n\nIf you have any questions\, please contact \n\nIvette Starkey at 803-743-1724 or ivette.starkey@allsouth.org.
X-ALT-DESC;FMTTYPE=text/html:<div style="color: rgb(64\, 63\, 66)\; font-family: Arial\, Verdana\, Helvetica\, sans-serif\; font-size: 14px\; white-space: pre-wrap\; background-color: rgb(255\, 255\, 255)\; text-align: center\;"><span style="font-size: 16px\; color: rgb(34\, 34\, 34)\;">Soldiers &amp\; Vets Charity Golf Tournament&nbsp\;</span></div>\n\n<div style="color: rgb(64\, 63\, 66)\; font-family: Arial\, Verdana\, Helvetica\, sans-serif\; font-size: 14px\; white-space: pre-wrap\; background-color: rgb(255\, 255\, 255)\; text-align: center\;">&nbsp\;</div>\n\n<div style="color: rgb(64\, 63\, 66)\; font-family: Arial\, Verdana\, Helvetica\, sans-serif\; font-size: 14px\; white-space: pre-wrap\; background-color: rgb(255\, 255\, 255)\; text-align: center\;"><span style="color: rgb(34\, 34\, 34)\;">AllSouth Federal Credit Union will host its annual Soldiers &amp\; Vets Charity Golf Tournament </span></div>\n\n<div style="color: rgb(64\, 63\, 66)\; font-family: Arial\, Verdana\, Helvetica\, sans-serif\; font-size: 14px\; white-space: pre-wrap\; background-color: rgb(255\, 255\, 255)\; text-align: center\;"><span style="color: rgb(34\, 34\, 34)\;">Thursday\, May 16th. </span></div>\n\n<div style="color: rgb(64\, 63\, 66)\; font-family: Arial\, Verdana\, Helvetica\, sans-serif\; font-size: 14px\; white-space: pre-wrap\; background-color: rgb(255\, 255\, 255)\; text-align: center\;"><span style="color: rgb(34\, 34\, 34)\;">This year&rsquo\;s beneficiary is the</span></div>\n\n<div style="color: rgb(64\, 63\, 66)\; font-family: Arial\, Verdana\, Helvetica\, sans-serif\; font-size: 14px\; white-space: pre-wrap\; background-color: rgb(255\, 255\, 255)\; text-align: center\;"><span style="color: rgb(34\, 34\, 34)\;">&nbsp\;</span><a href="http://mktsrv.allsouth.org/em?a=NxwaX3YqB4vlozOA9o31WL&amp\;b=vF0ECETjwkG8QJY6GKRLQQ" style="color: rgb(34\, 34\, 34)\;" target="_blank">Friends of Fisher House\, Columbia\, SC</a><span style="color: rgb(34\, 34\, 34)\;">.</span></div>\n\n<div style="color: rgb(64\, 63\, 66)\; font-family: Arial\, Verdana\, Helvetica\, sans-serif\; font-size: 14px\; white-space: pre-wrap\; background-color: rgb(255\, 255\, 255)\; text-align: center\;"><span style="color: rgb(34\, 34\, 34)\;">&nbsp\;</span></div>\n\n<div style="color: rgb(64\, 63\, 66)\; font-family: Arial\, Verdana\, Helvetica\, sans-serif\; font-size: 14px\; white-space: pre-wrap\; background-color: rgb(255\, 255\, 255)\; text-align: center\;"><span style="color: rgb(34\, 34\, 34)\;">Not a golfer? Please consider sponsoring a soldier.</span></div>\n\n<div style="color: rgb(64\, 63\, 66)\; font-family: Arial\, Verdana\, Helvetica\, sans-serif\; font-size: 14px\; white-space: pre-wrap\; background-color: rgb(255\, 255\, 255)\; text-align: center\;"><span style="color: rgb(34\, 34\, 34)\;">The early bird deadline is fast approaching.&nbsp\;</span></div>\n\n<div style="color: rgb(64\, 63\, 66)\; font-family: Arial\, Verdana\, Helvetica\, sans-serif\; font-size: 14px\; white-space: pre-wrap\; background-color: rgb(255\, 255\, 255)\; text-align: center\;"><a href="http://mktsrv.allsouth.org/em?a=NxwaX3YqB4vlozOA9o31WL&amp\;b=jcb5nrtJjE6VVUxPN1y0Fw" style="color: rgb(46\, 84\, 165)\; font-size: 16px\;" target="_blank">Register today!</a></div>\n\n<div style="color: rgb(64\, 63\, 66)\; font-family: Arial\, Verdana\, Helvetica\, sans-serif\; font-size: 14px\; white-space: pre-wrap\; background-color: rgb(255\, 255\, 255)\; text-align: center\;"><span style="color: rgb(34\, 34\, 34)\;">&nbsp\;</span></div>\n\n<div style="color: rgb(64\, 63\, 66)\; font-family: Arial\, Verdana\, Helvetica\, sans-serif\; font-size: 14px\; white-space: pre-wrap\; background-color: rgb(255\, 255\, 255)\; text-align: center\;"><span style="color: rgb(34\, 34\, 34)\;">If you have any questions\, please contact </span></div>\n\n<div style="color: rgb(64\, 63\, 66)\; font-family: Arial\, Verdana\, Helvetica\, sans-serif\; font-size: 14px\; white-space: pre-wrap\; background-color: rgb(255\, 255\, 255)\; text-align: center\;"><span style="color: rgb(34\, 34\, 34)\;">Ivette Starkey at 803-743-1724 or&nbsp\;</span><a href="http://mktsrv.allsouth.org/em?a=NxwaX3YqB4vlozOA9o31WL&amp\;b=zQ1c8oJ66UOdephuKKsp3w" style="color: rgb(17\, 85\, 204)\;" target="_blank">ivette.starkey@allsouth.org</a><span style="color: rgb(34\, 34\, 34)\;">.&nbsp\;</span></div>\n
LOCATION:Golden Hills Country Club - 100 Scotland Drive Lexington\, SC Format: 4 Person Captain's Choice
UID:e.1644.2451
SEQUENCE:3
DTSTAMP:20260422T040656Z
URL:https://business.chapinchamber.com/events/details/allsouth-fcu-soldiers-and-vets-golf-tournament-2451
END:VEVENT

END:VCALENDAR
