BEGIN:VCALENDAR
VERSION:2.0
PRODID:-//ChamberMaster//Event Calendar 2.0//EN
METHOD:PUBLISH
X-PUBLISHED-TTL:P3D
REFRESH-INTERVAL:P3D
CALSCALE:GREGORIAN
BEGIN:VEVENT
DTSTART:20190918T220000Z
DTEND:20190919T010000Z
X-MICROSOFT-CDO-ALLDAYEVENT:FALSE
SUMMARY:American Legion Presents Bingo Night
DESCRIPTION:Join the American Legion Post 193 Chapin for their first Bingo Night.
X-ALT-DESC;FMTTYPE=text/html:Join the American Legion Post 193 Chapin for their first Bingo Night.&nbsp\;
LOCATION:Timberlake Country Club\, 222 Timberlake Drive\, Chapin
UID:e.1644.2517
SEQUENCE:3
DTSTAMP:20260426T005245Z
URL:https://business.chapinchamber.com/events/details/american-legion-presents-bingo-night-2517
END:VEVENT

END:VCALENDAR
