BEGIN:VCALENDAR
VERSION:2.0
PRODID:-//ChamberMaster//Event Calendar 2.0//EN
METHOD:PUBLISH
X-PUBLISHED-TTL:P3D
REFRESH-INTERVAL:P3D
CALSCALE:GREGORIAN
BEGIN:VEVENT
DTSTART:20191123T000000Z
DTEND:20191123T010000Z
X-MICROSOFT-CDO-ALLDAYEVENT:FALSE
SUMMARY:American Legion Quilt of Valor Presentation
DESCRIPTION:The Chapin American Legion Post 193 cordially invites you to attend a Quilt \n\nof Valor presentation.  Twenty five Quilts of Valor will be presented to Veterans from the local community.  Dress is business casual.
X-ALT-DESC;FMTTYPE=text/html:The Chapin American Legion Post 193 cordially invites you to attend a Quilt&nbsp\;<br />\nof Valor presentation.&nbsp\; Twenty five Quilts of Valor will be presented to Veterans from the local community.&nbsp\; Dress is business casual.&nbsp\;
LOCATION:The American Legion Post 193 - 102 Lexington Avenue\, Chapin SC
UID:e.1644.3567
SEQUENCE:3
DTSTAMP:20260425T231058Z
URL:https://business.chapinchamber.com/events/details/american-legion-quilt-of-valor-presentation-3567
END:VEVENT

END:VCALENDAR
