BEGIN:VCALENDAR
VERSION:2.0
PRODID:-//ChamberMaster//Event Calendar 2.0//EN
METHOD:PUBLISH
X-PUBLISHED-TTL:P3D
REFRESH-INTERVAL:P3D
CALSCALE:GREGORIAN
BEGIN:VEVENT
DTSTART:20191209T223000Z
DTEND:20191210T003000Z
X-MICROSOFT-CDO-ALLDAYEVENT:FALSE
SUMMARY:An Evening With Santa
DESCRIPTION:Timberlake Country Club annual Santa event. A photographer will be present to take family photos with Santa. Santa will arrive at 5:30 p.m. and will need to leave at 7:30 p.m. to return to the North Pole.Come to Timberlake Country Club and have your\, or your child's picture taken with Santa!  With the purchase of an adult buffet\, pasta Buffet available from 5:00 p.m. to 8:00 p.m.  Reservations are required for dinner. Open to everyone!
X-ALT-DESC;FMTTYPE=text/html:<span style="color: rgb(29\, 33\, 41)\; font-family: Helvetica\, Arial\, sans-serif\; font-size: 14px\; white-space: pre-wrap\; background-color: rgb(255\, 255\, 255)\;">Timberlake Country Club annual Santa event. A photographer will be present to take family photos with Santa. Santa will arrive at 5:30 p.m. and will need to leave at 7:30 p.m. to return to the North Pole.</span>Come to Timberlake Country Club and have your\, or your child&#39\;s picture taken with Santa!&nbsp\; With the purchase of an adult buffet\, pasta Buffet available from 5:00 p.m. to 8:00 p.m.&nbsp\; Reservations are required for dinner. Open to everyone!
LOCATION:Timberlake Country Club - 222 Timberlake Drive\, Chapin SC
UID:e.1644.3578
SEQUENCE:3
DTSTAMP:20260425T192636Z
URL:https://business.chapinchamber.com/events/details/an-evening-with-santa-3578
END:VEVENT

END:VCALENDAR
