BEGIN:VCALENDAR
VERSION:2.0
PRODID:-//ChamberMaster//Event Calendar 2.0//EN
METHOD:PUBLISH
X-PUBLISHED-TTL:P3D
REFRESH-INTERVAL:P3D
CALSCALE:GREGORIAN
BEGIN:VEVENT
DTSTART:20191208T210000Z
DTEND:20191208T230000Z
X-MICROSOFT-CDO-ALLDAYEVENT:FALSE
SUMMARY:Annual Christmas Lighting Ceremony at Town Hall
DESCRIPTION:Join the Town of Chapin for their annual Christmas Lighting Ceremony at Town Hall and enjoy cookie decorating and other crafts sponsored by local businesses.  Visit with Santa Claus without the long line and mall crowd. Bring your kids and grandkids to enjoy this special time.  Help Town Hall light their beautiful tree\, complete with caroling as a community.
X-ALT-DESC;FMTTYPE=text/html:Join the Town of Chapin for their annual Christmas Lighting Ceremony at Town Hall and enjoy cookie decorating and other crafts sponsored by local businesses.&nbsp\; Visit with Santa Claus without the long line and mall crowd. Bring your kids and grandkids to enjoy this special time.&nbsp\; Help Town Hall light their beautiful tree\, complete with caroling as a community.&nbsp\;&nbsp\;
LOCATION:Town of Chapin - 157 NW Columbia Avenue\, Chapin
UID:e.1644.3570
SEQUENCE:3
DTSTAMP:20260425T192840Z
URL:https://business.chapinchamber.com/events/details/annual-christmas-lighting-ceremony-at-town-hall-3570
END:VEVENT

END:VCALENDAR
