BEGIN:VCALENDAR
VERSION:2.0
PRODID:-//ChamberMaster//Event Calendar 2.0//EN
METHOD:PUBLISH
X-PUBLISHED-TTL:P3D
REFRESH-INTERVAL:P3D
CALSCALE:GREGORIAN
BEGIN:VEVENT
DTSTART:20191017T113000Z
DTEND:20191017T130000Z
X-MICROSOFT-CDO-ALLDAYEVENT:FALSE
SUMMARY:Annual Membership Breakfast
DESCRIPTION:Please plan to attend our Annual Member Breakfast Meeting\, sponsored by Mid Carolina Electric Co-operative.  We need YOU there to officially elect candidates to serve as a Board Member starting January 2020.  Venue and registration link to follow.  \n\n\n\nNomination Forms for the Chapin Chamber Annual Awards will also be available\, so put some thought into it and when it comes time nominate a business you feel is deserving of the awards below:\n\nSmall Business Award\n\nLarge Business Award\n\nStan E. Shealy Community Service Award\n\nAnnie Epting Volunteer of the Year\n\nThe Chamber Advocate Award\n\nYoung Professional of the Year
X-ALT-DESC;FMTTYPE=text/html:<span style="font-family:arial\;"><span style="color: rgb(68\, 68\, 68)\; background-color: rgb(255\, 255\, 255)\;">Please plan to attend our Annual Member Breakfast Meeting\, sponsored by Mid Carolina Electric Co-operative.&nbsp\; We need YOU there to officially elect candidates to serve as a Board Member starting January 2020.&nbsp\; Venue and registration link to follow.&nbsp\;&nbsp\;</span><br />\n<br />\n<span style="color: rgb(68\, 68\, 68)\; background-color: rgb(255\, 255\, 255)\;">Nomination Forms for the Chapin Chamber Annual Awards will also be available\, so put some thought into it and when it comes time nominate a business you feel is deserving of the awards below:</span><br style="margin: 0px\; padding: 0px\; border: 0px\; background: none rgb(255\, 255\, 255)\; outline: none\; color: rgb(68\, 68\, 68)\; font-family: OpenSansRegular\; font-size: 14px\;" />\n<span style="color: rgb(68\, 68\, 68)\; background-color: rgb(255\, 255\, 255)\;">Small Business Award</span><br style="margin: 0px\; padding: 0px\; border: 0px\; background: none rgb(255\, 255\, 255)\; outline: none\; color: rgb(68\, 68\, 68)\; font-family: OpenSansRegular\; font-size: 14px\;" />\n<span style="color: rgb(68\, 68\, 68)\; background-color: rgb(255\, 255\, 255)\;">Large Business Award</span><br style="margin: 0px\; padding: 0px\; border: 0px\; background: none rgb(255\, 255\, 255)\; outline: none\; color: rgb(68\, 68\, 68)\; font-family: OpenSansRegular\; font-size: 14px\;" />\n<span style="color: rgb(68\, 68\, 68)\; background-color: rgb(255\, 255\, 255)\;">Stan E. Shealy Community Service Award</span><br style="margin: 0px\; padding: 0px\; border: 0px\; background: none rgb(255\, 255\, 255)\; outline: none\; color: rgb(68\, 68\, 68)\; font-family: OpenSansRegular\; font-size: 14px\;" />\n<span style="color: rgb(68\, 68\, 68)\; background-color: rgb(255\, 255\, 255)\;">Annie Epting Volunteer of the Year</span><br style="margin: 0px\; padding: 0px\; border: 0px\; background: none rgb(255\, 255\, 255)\; outline: none\; color: rgb(68\, 68\, 68)\; font-family: OpenSansRegular\; font-size: 14px\;" />\n<span style="color: rgb(68\, 68\, 68)\; background-color: rgb(255\, 255\, 255)\;">The Chamber Advocate Award</span><br style="margin: 0px\; padding: 0px\; border: 0px\; background: none rgb(255\, 255\, 255)\; outline: none\; color: rgb(68\, 68\, 68)\; font-family: OpenSansRegular\; font-size: 14px\;" />\n<span style="color: rgb(68\, 68\, 68)\; background-color: rgb(255\, 255\, 255)\;">Young Professional of the Year</span></span>
LOCATION:TBA
UID:e.1644.2499
SEQUENCE:3
DTSTAMP:20260425T225506Z
URL:https://business.chapinchamber.com/events/details/annual-membership-breakfast-2499
END:VEVENT

END:VCALENDAR
