BEGIN:VCALENDAR
VERSION:2.0
PRODID:-//ChamberMaster//Event Calendar 2.0//EN
METHOD:PUBLISH
X-PUBLISHED-TTL:P3D
REFRESH-INTERVAL:P3D
CALSCALE:GREGORIAN
BEGIN:VEVENT
DTSTART:20181018T113000Z
DTEND:20181018T130000Z
X-MICROSOFT-CDO-ALLDAYEVENT:FALSE
SUMMARY:Annual Membership Meeting
DESCRIPTION:Please plan to attend our Annual Member Breakfast Meeting\, sponsored by Mid Carolina Electric Co-operative.  We need YOU there to officially elect candidates to serve as a Board Member starting January 2019.  This meeting will be held at Chapin Town Hall - 157 NW Columbia Avenue from 8:00 - 9:30 a.m.  Registration link to follow\, stay tuned!\n\n\n\nNomination Forms for the Chapin Chamber Annual Awards will be available at today's meeting\; however if you were unable to attend please click HERE to download and nominate a business you feel is deserving of the awards below:\n\nSmall Business Award\n\nLarge Business Award\n\nStan E. Shealy Community Service Award\n\nAnnie Epting Volunteer of the Year\n\nThe Chamber Advocate Award\n\nYoung Professional of the Year
X-ALT-DESC;FMTTYPE=text/html:<span style="font-family:arial\;"><span style="color: rgb(68\, 68\, 68)\; background-color: rgb(255\, 255\, 255)\;">Please plan to attend our Annual Member Breakfast Meeting\, sponsored by Mid Carolina Electric Co-operative.&nbsp\; We need YOU there to officially elect candidates to serve as a Board Member starting January 2019.&nbsp\;&nbsp\;</span>This meeting will be held at Chapin Town Hall - 157 NW Columbia Avenue from 8:00 - 9:30 a.m.&nbsp\; Registration link to follow\, stay tuned!<br />\n<br />\n<span style="color: rgb(68\, 68\, 68)\; background-color: rgb(255\, 255\, 255)\;">Nomination Forms for the Chapin Chamber Annual Awards will be available at today&rsquo\;s meeting\; however if you were unable to attend please click <a href="https://chambermaster.blob.core.windows.net/userfiles/UserFiles/chambers/1644/File/2018ChapinChamberAnnualAwardsNominationForm.docx">HERE</a> to download and nominate a business you feel is deserving of the awards below:</span><br style="margin: 0px\; padding: 0px\; border: 0px\; background: none rgb(255\, 255\, 255)\; outline: none\; color: rgb(68\, 68\, 68)\; font-family: OpenSansRegular\; font-size: 14px\;" />\n<span style="color: rgb(68\, 68\, 68)\; background-color: rgb(255\, 255\, 255)\;">Small Business Award</span><br style="margin: 0px\; padding: 0px\; border: 0px\; background: none rgb(255\, 255\, 255)\; outline: none\; color: rgb(68\, 68\, 68)\; font-family: OpenSansRegular\; font-size: 14px\;" />\n<span style="color: rgb(68\, 68\, 68)\; background-color: rgb(255\, 255\, 255)\;">Large Business Award</span><br style="margin: 0px\; padding: 0px\; border: 0px\; background: none rgb(255\, 255\, 255)\; outline: none\; color: rgb(68\, 68\, 68)\; font-family: OpenSansRegular\; font-size: 14px\;" />\n<span style="color: rgb(68\, 68\, 68)\; background-color: rgb(255\, 255\, 255)\;">Stan E. Shealy Community Service Award</span><br style="margin: 0px\; padding: 0px\; border: 0px\; background: none rgb(255\, 255\, 255)\; outline: none\; color: rgb(68\, 68\, 68)\; font-family: OpenSansRegular\; font-size: 14px\;" />\n<span style="color: rgb(68\, 68\, 68)\; background-color: rgb(255\, 255\, 255)\;">Annie Epting Volunteer of the Year</span><br style="margin: 0px\; padding: 0px\; border: 0px\; background: none rgb(255\, 255\, 255)\; outline: none\; color: rgb(68\, 68\, 68)\; font-family: OpenSansRegular\; font-size: 14px\;" />\n<span style="color: rgb(68\, 68\, 68)\; background-color: rgb(255\, 255\, 255)\;">The Chamber Advocate Award</span><br style="margin: 0px\; padding: 0px\; border: 0px\; background: none rgb(255\, 255\, 255)\; outline: none\; color: rgb(68\, 68\, 68)\; font-family: OpenSansRegular\; font-size: 14px\;" />\n<span style="color: rgb(68\, 68\, 68)\; background-color: rgb(255\, 255\, 255)\;">Young Professional of the Year</span></span>
LOCATION:Chapin Town Hall - 157 NW Columbia Avenue\, Chapin
UID:e.1644.2219
SEQUENCE:3
DTSTAMP:20260422T182904Z
URL:https://business.chapinchamber.com/events/details/annual-membership-meeting-2219
END:VEVENT

END:VCALENDAR
