BEGIN:VCALENDAR
VERSION:2.0
PRODID:-//ChamberMaster//Event Calendar 2.0//EN
METHOD:PUBLISH
X-PUBLISHED-TTL:P3D
REFRESH-INTERVAL:P3D
CALSCALE:GREGORIAN
BEGIN:VEVENT
DTSTART:20181030T200000Z
DTEND:20181030T220000Z
X-MICROSOFT-CDO-ALLDAYEVENT:FALSE
SUMMARY:Anytime Fitness Customer Appreciation Halloween Event
DESCRIPTION:Chapin's Anytime Fitness appreciates YOU!  Go dressed in your favorite costume while they celebrate you\, their fabulous members\, at their annual Halloween Appreciation event!
X-ALT-DESC;FMTTYPE=text/html:Chapin&#39\;s Anytime Fitness appreciates YOU!&nbsp\; Go dressed in your favorite costume while they celebrate you\, their fabulous members\, at their annual Halloween Appreciation event!
LOCATION:Anytime Fitness Chapin - 1237 Chapin Road\, Chapin
UID:e.1644.2268
SEQUENCE:3
DTSTAMP:20260422T183236Z
URL:https://business.chapinchamber.com/events/details/anytime-fitness-customer-appreciation-halloween-event-2268
END:VEVENT

END:VCALENDAR
