BEGIN:VCALENDAR
VERSION:2.0
PRODID:-//ChamberMaster//Event Calendar 2.0//EN
METHOD:PUBLISH
X-PUBLISHED-TTL:P3D
REFRESH-INTERVAL:P3D
CALSCALE:GREGORIAN
BEGIN:VEVENT
DTSTART:20190423T113000Z
DTEND:20190423T130000Z
X-MICROSOFT-CDO-ALLDAYEVENT:FALSE
SUMMARY:April Chamber Member Breakfast
DESCRIPTION:Please join us for yet another informative breakfast member meeting.\n\nCaughman-Harman Funeral Homes\n\nwill be our host.\n\n\nWilliam Lynch will be our presenter\n\nand the topic of discussion\n\nwill be focused on\n\nFuneral Trends/Advanced Funeral Planning/Cremation/Green Funerals\n\nTechnology within the industry\, Personalization
X-ALT-DESC;FMTTYPE=text/html:<div align="center" style="color: rgb(64\, 63\, 66)\; font-family: Arial\, Verdana\, Helvetica\, sans-serif\; font-size: 12px\; background-color: rgb(255\, 255\, 255)\; text-align: center\;"><span style="font-size: 14px\; color: rgb(0\, 0\, 0)\;">Please join us for yet another informative breakfast member meeting.</span></div>\n\n<div align="center" style="color: rgb(64\, 63\, 66)\; font-family: Arial\, Verdana\, Helvetica\, sans-serif\; font-size: 12px\; background-color: rgb(255\, 255\, 255)\; text-align: center\;"><span style="font-size: 14px\; color: rgb(0\, 0\, 0)\;">Caughman-Harman Funeral Homes</span></div>\n\n<div align="center" style="color: rgb(64\, 63\, 66)\; font-family: Arial\, Verdana\, Helvetica\, sans-serif\; font-size: 12px\; background-color: rgb(255\, 255\, 255)\; text-align: center\;"><span style="font-size: 14px\; color: rgb(0\, 0\, 0)\;">will be our host.</span></div>\n\n<div align="center" style="color: rgb(64\, 63\, 66)\; font-family: Arial\, Verdana\, Helvetica\, sans-serif\; font-size: 12px\; background-color: rgb(255\, 255\, 255)\; text-align: center\;">\n<div align="center"><span style="font-size: 14px\; color: rgb(0\, 0\, 0)\;">William Lynch will be our presenter</span></div>\n\n<div align="center"><span style="font-size: 14px\; color: rgb(0\, 0\, 0)\;">and the topic of discussion</span></div>\n\n<div align="center"><span style="font-size: 14px\; color: rgb(0\, 0\, 0)\;">will be focused on</span></div>\n\n<div align="center"><span style="font-size: 14px\; color: rgb(0\, 0\, 0)\;">Funeral Trends/Advanced Funeral Planning/Cremation/Green Funerals</span></div>\n\n<div align="center"><span style="color: rgb(0\, 0\, 0)\; font-size: 14px\;">Technology within the industry\, Personalization</span></div>\n</div>\n
LOCATION:Venue will be at Mt. Horeb Lutheran Church\, Chapin 101 East Boundary Street
UID:e.1644.2412
SEQUENCE:3
DTSTAMP:20260422T054855Z
URL:https://business.chapinchamber.com/events/details/april-chamber-member-breakfast-2412
END:VEVENT

END:VCALENDAR
