BEGIN:VCALENDAR
VERSION:2.0
PRODID:-//ChamberMaster//Event Calendar 2.0//EN
METHOD:PUBLISH
X-PUBLISHED-TTL:P3D
REFRESH-INTERVAL:P3D
CALSCALE:GREGORIAN
BEGIN:VEVENT
DTSTART:20180816T213000Z
DTEND:20180816T230000Z
X-MICROSOFT-CDO-ALLDAYEVENT:FALSE
SUMMARY:August New Mobile Member Meeting
DESCRIPTION:It's tough running a business\, but it's easier when the Mobile Area of your Chamber of Commerce has your back! The Chapin Chamber will host this months after hours member meeting to promote all of our New Mobile Members from August 2017 to July 2018 in order to help nurture those businesses that may not be in plain sight!  If you are a new mobile member to the chamber please advise if you would like to participate.  More information to follow!
X-ALT-DESC;FMTTYPE=text/html:<span style="font-family:comic sans ms\;"><span style="font-size:16px\;">It&#39\;s tough running a business\, but it&#39\;s easier when the Mobile Area of your Chamber of Commerce has your back! The Chapin Chamber will host this months after hours member meeting to promote all of our New Mobile Members from August 2017 to July 2018 in order to&nbsp\;help nurture those businesses that may not be in plain sight!&nbsp\; If you are a new mobile member to the chamber please advise if you would like to participate.&nbsp\; More information to follow!</span></span>
LOCATION:The Chapin Chamber of Commerce\, 302 Columbia Avenue\, Chapin
UID:e.1644.2185
SEQUENCE:3
DTSTAMP:20260422T220329Z
URL:https://business.chapinchamber.com/events/details/august-new-mobile-member-meeting-2185
END:VEVENT

END:VCALENDAR
