BEGIN:VCALENDAR
VERSION:2.0
PRODID:-//ChamberMaster//Event Calendar 2.0//EN
METHOD:PUBLISH
X-PUBLISHED-TTL:P3D
REFRESH-INTERVAL:P3D
CALSCALE:GREGORIAN
BEGIN:VEVENT
DTSTART:20180611T220000Z
DTEND:20180611T230000Z
X-MICROSOFT-CDO-ALLDAYEVENT:FALSE
SUMMARY:Author C.Hope Clark Book Signing
DESCRIPTION:Join C. Hope Clark for a Book Signing of her newest novel in the Carolina Slade Mystery Series "Newberry Sin"
X-ALT-DESC;FMTTYPE=text/html:Join C. Hope Clark for a Book Signing of her newest novel in the Carolina Slade Mystery Series &quot\;Newberry Sin&quot\;
LOCATION:Chapin Public Library - 129 Columbia Avenue\, Chapin
UID:e.1644.2188
SEQUENCE:3
DTSTAMP:20260423T000214Z
URL:https://business.chapinchamber.com/events/details/author-c-hope-clark-book-signing-2188
END:VEVENT

END:VCALENDAR
