BEGIN:VCALENDAR
VERSION:2.0
PRODID:-//ChamberMaster//Event Calendar 2.0//EN
METHOD:PUBLISH
X-PUBLISHED-TTL:P3D
REFRESH-INTERVAL:P3D
CALSCALE:GREGORIAN
BEGIN:VEVENT
DTSTART;VALUE=DATE:20180918
DTEND;VALUE=DATE:20180923
TRANSP:TRANSPARENT
X-MICROSOFT-CDO-ALLDAYEVENT:TRUE
SUMMARY:Back to the Rack Consignment Sale
DESCRIPTION:FREE ADMISSION: The Midlands Only Consignment Sale for the Whole Family including a huge section of Women's Clothing\, Shoes and Accessories\, as well as Children's clothing\, shoes\, gear\, toys\, accessories\, etc. ! You don't want to miss this sale! To become a consignor or volunteer and get into shop before the public\, register at: www.mysalemanager.net/hom_start.aspx?partnercode=B2RK
X-ALT-DESC;FMTTYPE=text/html:<span style="color: rgb(29\, 33\, 41)\; font-family: Helvetica\, Arial\, sans-serif\; font-size: 14px\;">FREE ADMISSION: The Midlands Only Consignment Sale for the Whole Family including a huge section of Women&#39\;s Clothing\, Shoes and Accessories\, as well as Children&#39\;s clothing\, shoes\, gear\, toys\, accessories\, etc. ! You don&#39\;t want to miss this sale! To become a consignor or volunteer and get into shop before the public\, register at:&nbsp\;</span><a data-lynx-mode="hover" data-lynx-uri="https://l.facebook.com/l.php?u=http%3A%2F%2Fwww.mysalemanager.net%2Fhom_start.aspx%3Fpartnercode%3DB2RK&amp\;h=AT2pn7krE3Mpo9xDgwLtE-E1ImSDbvU6Lp9lcLlYf7HPv62V4YUdRtv59cahkUVUG6o7RiPVri6RXJDiFcwhjn4Pn5iuxHGDEqIs-yRcOJ8Yy-cPV29qk8nDZwMq6aJa0bSIS7Vkuspr5xmGTw" href="http://www.mysalemanager.net/hom_start.aspx?partnercode=B2RK" rel="nofollow noopener" style="color: rgb(54\, 88\, 153)\; cursor: pointer\; text-decoration-line: none\; font-family: Helvetica\, Arial\, sans-serif\; font-size: 14px\;" target="_blank">www.mysalemanager.net/hom_start.aspx?partnercode=B2RK</a>
LOCATION:Chapin Baptist Church - 950 Old Lexington Hwy\, Chapin
UID:e.1644.2218
SEQUENCE:3
DTSTAMP:20260422T182859Z
URL:https://business.chapinchamber.com/events/details/back-to-the-rack-consignment-sale-2218
END:VEVENT

END:VCALENDAR
