BEGIN:VCALENDAR
VERSION:2.0
PRODID:-//ChamberMaster//Event Calendar 2.0//EN
METHOD:PUBLISH
X-PUBLISHED-TTL:P3D
REFRESH-INTERVAL:P3D
CALSCALE:GREGORIAN
BEGIN:VEVENT
DTSTART:20191206T003000Z
DTEND:20191206T023000Z
X-MICROSOFT-CDO-ALLDAYEVENT:FALSE
SUMMARY:Bah\, Humbug! A Christmas Carol
DESCRIPTION:Chapin Theatre Company Presents - Bah\, Humbug!  A Christmas Carol\n\nAdapted from the Charles Dickens Classic.  Reserve your seats now at chapintheatre.org or call 800-838-3006
X-ALT-DESC;FMTTYPE=text/html:Chapin Theatre Company Presents - Bah\, Humbug!&nbsp\; A Christmas Carol<br />\nAdapted from the Charles Dickens Classic.&nbsp\; Reserve your seats now at chapintheatre.org or call 800-838-3006
LOCATION:Firehouse Theatre at the American Legion Post 193 - 102 Lexington Avenue\, Chapin
UID:e.1644.3572
SEQUENCE:3
DTSTAMP:20260425T193004Z
URL:https://business.chapinchamber.com/events/details/bah-humbug-a-christmas-carol-12-05-2019-3572
END:VEVENT

END:VCALENDAR
