BEGIN:VCALENDAR
VERSION:2.0
PRODID:-//ChamberMaster//Event Calendar 2.0//EN
METHOD:PUBLISH
X-PUBLISHED-TTL:P3D
REFRESH-INTERVAL:P3D
CALSCALE:GREGORIAN
BEGIN:VEVENT
DTSTART:20330325T120000Z
DTEND:20330325T130000Z
X-MICROSOFT-CDO-ALLDAYEVENT:FALSE
SUMMARY:Ballentine Business Breakfast
DESCRIPTION:Join us each last Friday of the month for our Ballentine Business Breakfast. This engaging event provides the opportunity for business leaders from the Chapin\, Ballentine and surrounding areas to network and hear important information about our thriving community!
X-ALT-DESC;FMTTYPE=text/html:<span class="OYPEnA font-feature-liga-off font-feature-clig-off font-feature-calt-off text-decoration-none text-strikethrough-none" style="color: rgb(0\, 0\, 0)\; font-kerning: none\;">Join us each last Friday of the month for our Ballentine Business Breakfast. This engaging event provides the opportunity for business leaders from the Chapin\, Ballentine and surrounding areas to network and hear important information about our thriving community!</span>
LOCATION:The Heritage at Lowman
UID:e.1644.6044
SEQUENCE:3
DTSTAMP:20260419T185049Z
URL:https://business.chapinchamber.com/events/details/ballentine-business-breakfast-03-25-2033-6044
END:VEVENT

END:VCALENDAR
