BEGIN:VCALENDAR
VERSION:2.0
PRODID:-//ChamberMaster//Event Calendar 2.0//EN
METHOD:PUBLISH
X-PUBLISHED-TTL:P3D
REFRESH-INTERVAL:P3D
CALSCALE:GREGORIAN
BEGIN:VEVENT
DTSTART:20180623T230000Z
DTEND:20180624T030000Z
X-MICROSOFT-CDO-ALLDAYEVENT:FALSE
SUMMARY:Benefit for Coach Sullivan
DESCRIPTION:Fundraiser Event for Chapin legend Coach WF Sullivan who has been diagnosed with caner in the last year\; however the doctors at Duke say it is treatable. Let's help the man who has helped so many! Music graciously donated by Gas Money Band\, will start around 7:00 p.m. There will be a silent auction with some incredible items on the block.  Food and beverages will also be available. 100% of the profits of beer sales along with all donations will go directly to Coach to cover medical bills.  Special T-shirts with your favorite WF sayings along with wrist bands will be for sale.
X-ALT-DESC;FMTTYPE=text/html:Fundraiser Event for Chapin legend Coach WF Sullivan who has been diagnosed with caner in the last year\; however the doctors at Duke say it is treatable. Let&#39\;s help the man who has helped so many! Music graciously donated by Gas Money Band\, will start around 7:00 p.m. There will be a silent auction with some incredible items on the block.&nbsp\; Food and beverages will also be available. 100% of the profits of beer sales along with all donations will go directly to Coach to cover medical bills.&nbsp\; Special T-shirts with your favorite WF sayings along with wrist bands will be for sale.
LOCATION:Tipsy Toad Tavern 103 Beaufort Street
UID:e.1644.2196
SEQUENCE:3
DTSTAMP:20260423T000137Z
URL:https://business.chapinchamber.com/events/details/benefit-for-coach-sullivan-2196
END:VEVENT

END:VCALENDAR
