BEGIN:VCALENDAR
VERSION:2.0
PRODID:-//ChamberMaster//Event Calendar 2.0//EN
METHOD:PUBLISH
X-PUBLISHED-TTL:P3D
REFRESH-INTERVAL:P3D
CALSCALE:GREGORIAN
BEGIN:VEVENT
DTSTART:20190623T130000Z
DTEND:20190623T180000Z
X-MICROSOFT-CDO-ALLDAYEVENT:FALSE
SUMMARY:BLOOD DRIVE - Our Lady Of The Lake Catholic Church
DESCRIPTION:Blood Drive at Our Lady of the Lake Catholic Church \n\nPlease visit www.redcrossblood.org\n\nEnter Sponsor Code: OLL\n\nPlease bring photo ID and have eaten well before donating
X-ALT-DESC;FMTTYPE=text/html:Blood Drive at Our Lady of the Lake Catholic Church&nbsp\;<br />\nPlease visit www.redcrossblood.org<br />\nEnter Sponsor Code: OLL<br />\nPlease bring photo ID and have eaten well before donating<br />\n&nbsp\;
LOCATION:195 Amicks Ferry Road - Chapin\, SC
UID:e.1644.2232
SEQUENCE:3
DTSTAMP:20260422T020313Z
URL:https://business.chapinchamber.com/events/details/blood-drive-our-lady-of-the-lake-catholic-church-2232
END:VEVENT

END:VCALENDAR
