BEGIN:VCALENDAR
VERSION:2.0
PRODID:-//ChamberMaster//Event Calendar 2.0//EN
METHOD:PUBLISH
X-PUBLISHED-TTL:P3D
REFRESH-INTERVAL:P3D
CALSCALE:GREGORIAN
BEGIN:VEVENT
DTSTART:20190411T200000Z
DTEND:20190411T230000Z
X-MICROSOFT-CDO-ALLDAYEVENT:FALSE
SUMMARY:Blue Lavender Spa - 2nd Anniversary Event
DESCRIPTION:Blue Lavender Spa is 2! \n\nPlease join us as we celebrate with \n\nMia and her staff \n\nEnjoy sales demonstrations\, giveaways\, drawings\, food & beverages. \n\nThe Mayor will be in attendance. \n\n Representatives from Gl Skin Beauty and Allergan will be available to answer questions and help you with products. Nansi and Ashley will be doing free chair massages. Shop their unique gifts and gift card specials\, just in time for Mother's Day. Bring your friends!
X-ALT-DESC;FMTTYPE=text/html:<div style="color: rgb(64\, 63\, 66)\; font-family: Arial\, Verdana\, Helvetica\, sans-serif\; font-size: 12px\; white-space: pre-wrap\; background-color: rgb(255\, 255\, 255)\; text-align: center\;"><span style="font-size: 14px\; color: rgb(0\, 0\, 0)\;">Blue Lavender Spa is 2! </span></div>\n\n<div style="color: rgb(64\, 63\, 66)\; font-family: Arial\, Verdana\, Helvetica\, sans-serif\; font-size: 12px\; white-space: pre-wrap\; background-color: rgb(255\, 255\, 255)\; text-align: center\;"><span style="font-size: 14px\; color: rgb(0\, 0\, 0)\;">Please join us as we celebrate with </span></div>\n\n<div style="color: rgb(64\, 63\, 66)\; font-family: Arial\, Verdana\, Helvetica\, sans-serif\; font-size: 12px\; white-space: pre-wrap\; background-color: rgb(255\, 255\, 255)\; text-align: center\;"><span style="font-size: 14px\; color: rgb(0\, 0\, 0)\;">Mia and her staff </span></div>\n\n<div style="color: rgb(64\, 63\, 66)\; font-family: Arial\, Verdana\, Helvetica\, sans-serif\; font-size: 12px\; white-space: pre-wrap\; background-color: rgb(255\, 255\, 255)\; text-align: center\;"><span style="font-size: 14px\; color: rgb(0\, 0\, 0)\;">Enjoy sales demonstrations\, giveaways\, drawings\, food &amp\; beverages. </span></div>\n\n<div style="color: rgb(64\, 63\, 66)\; font-family: Arial\, Verdana\, Helvetica\, sans-serif\; font-size: 12px\; white-space: pre-wrap\; background-color: rgb(255\, 255\, 255)\; text-align: center\;"><span style="font-size: 14px\; color: rgb(0\, 0\, 0)\;">The Mayor will be in attendance. </span></div>\n\n<div style="color: rgb(64\, 63\, 66)\; font-family: Arial\, Verdana\, Helvetica\, sans-serif\; font-size: 12px\; white-space: pre-wrap\; background-color: rgb(255\, 255\, 255)\; text-align: center\;"><span style="font-size: 14px\; color: rgb(0\, 0\, 0)\;">&#65279\;Representatives from Gl&#333\;Skin Beauty and Allergan will be available to answer questions and help you with products. Nansi and Ashley will be doing free chair massages. Shop their unique gifts and gift card specials\, just in time for Mother&#39\;s Day. Bring your friends!</span></div>\n
LOCATION:1400 Chapin Road\, Chapin
UID:e.1644.2415
SEQUENCE:3
DTSTAMP:20260422T054953Z
URL:https://business.chapinchamber.com/events/details/blue-lavender-spa-2nd-anniversary-event-2415
END:VEVENT

END:VCALENDAR
