BEGIN:VCALENDAR
VERSION:2.0
PRODID:-//ChamberMaster//Event Calendar 2.0//EN
METHOD:PUBLISH
X-PUBLISHED-TTL:P3D
REFRESH-INTERVAL:P3D
CALSCALE:GREGORIAN
BEGIN:VEVENT
DTSTART:20181020T123000Z
DTEND:20181020T203000Z
X-MICROSOFT-CDO-ALLDAYEVENT:FALSE
SUMMARY:Boating Safety Class
DESCRIPTION:Boating safety class offered by the U.S. Coast Guard Auxiliary \n\nFor information and to register contact CLAY GOODWIN (719) 425-5101 or E-mail to claygoodwin@netscape.net\n\nPre-registration is REQUIRED as class size is limited.
X-ALT-DESC;FMTTYPE=text/html:Boating safety class offered by the U.S. Coast Guard Auxiliary&nbsp\;<br />\nFor information and to register contact CLAY GOODWIN (719) 425-5101 or E-mail to claygoodwin@netscape.net<br />\nPre-registration is REQUIRED as class size is limited.&nbsp\;<br />\n&nbsp\;
LOCATION:ECPI University\, 3rd Floor Classroom 250 Berryhill Road\, Columbia SC
UID:e.1644.2240
SEQUENCE:3
DTSTAMP:20260422T163935Z
URL:https://business.chapinchamber.com/events/details/boating-safety-class-2240
END:VEVENT

END:VCALENDAR
