BEGIN:VCALENDAR
VERSION:2.0
PRODID:-//ChamberMaster//Event Calendar 2.0//EN
METHOD:PUBLISH
X-PUBLISHED-TTL:P3D
REFRESH-INTERVAL:P3D
CALSCALE:GREGORIAN
BEGIN:VEVENT
DTSTART:20180728T150000Z
DTEND:20180728T180000Z
X-MICROSOFT-CDO-ALLDAYEVENT:FALSE
SUMMARY:Book Signing at The Coffee Shelf
DESCRIPTION:Ward's book\, "One Lone Minstrel\," is a collection of poetry he has written over his years in music\, both early and contemporary works\, numbering more than 100 pages. It is an imprint of Broad River Books\, part of Muddy Ford Press. "It's kind of a memoir\," Ward said. "The poetry is much more personal and much more intense than my songwriting." Blues and Americana singer\, songwriter\, and guitarist "Reverend" Marv Ward has performed throughout the United States and shared the stage with some of the most well-known artists in music today. Listed in An Encyclopedia of South Carolina Jazz and Blues Musicians\, Ward writes poetry with the same passion that he composes his songs. While much of his earlier work in poetry has been lost\, this collection represents a few survivors as well as recent efforts.
X-ALT-DESC;FMTTYPE=text/html:<span style="color: rgb(29\, 33\, 41)\; font-family: Helvetica\, Arial\, sans-serif\; font-size: 14px\; background-color: rgb(255\, 255\, 255)\;">Ward&#39\;s book\, &quot\;One Lone Minstrel\,&quot\; is a collection of poetry he has written over his years in music\, both early and contemporary works\, numbering more than 100 pages. It is an imprint of Broad River Books\, part of Muddy Ford Press.&#8203\;&quot\;It&#39\;s kind of a memoir\,&quot\; Ward said. &quot\;The poetry is much more personal and much more intense than my songwriting.&quot\; Blues and Americana singer\, songwriter\, and guitarist &ldquo\;Reverend&rdquo\; Marv Ward has performed throughout the United States and shared the stage with some of the most well-known artists in music today. Listed in An Encyclopedia of South Carolina Jazz and Blues Musicians\, Ward writes poetry with the same passion that he composes his songs. While much of his earlier work in poetry has been lost\, this collection represents a few survivors as well as recent efforts.</span>
LOCATION:The Coffee Shelf 130 Amicks Ferry Road\, Chapin
UID:e.1644.2213
SEQUENCE:3
DTSTAMP:20260422T220421Z
URL:https://business.chapinchamber.com/events/details/book-signing-at-the-coffee-shelf-2213
END:VEVENT

END:VCALENDAR
