BEGIN:VCALENDAR
VERSION:2.0
PRODID:-//ChamberMaster//Event Calendar 2.0//EN
METHOD:PUBLISH
X-PUBLISHED-TTL:P3D
REFRESH-INTERVAL:P3D
CALSCALE:GREGORIAN
BEGIN:VEVENT
DTSTART:20181030T213000Z
DTEND:20181031T003000Z
X-MICROSOFT-CDO-ALLDAYEVENT:FALSE
SUMMARY:Capital Kitchen & Bath Halloween After Hours
DESCRIPTION:Please join Capital Kitchen & Bath for an after hours event at their Ballentine showroom! Enjoy food\, beverage\, music\, and networking at their first annual Halloween party!
X-ALT-DESC;FMTTYPE=text/html:Please join Capital Kitchen &amp\; Bath for an after hours event at their Ballentine showroom! Enjoy food\, beverage\, music\, and networking at their first annual Halloween party!
LOCATION:1720 Dutch Fork Rd\, Ste H Irmo\, SC 29063
UID:e.1644.2257
SEQUENCE:3
DTSTAMP:20260422T164848Z
URL:https://business.chapinchamber.com/events/details/capital-kitchen-bath-halloween-after-hours-2257
END:VEVENT

END:VCALENDAR
