BEGIN:VCALENDAR
VERSION:2.0
PRODID:-//ChamberMaster//Event Calendar 2.0//EN
METHOD:PUBLISH
X-PUBLISHED-TTL:P3D
REFRESH-INTERVAL:P3D
CALSCALE:GREGORIAN
BEGIN:VEVENT
DTSTART:20251210T203000Z
DTEND:20251210T220000Z
X-MICROSOFT-CDO-ALLDAYEVENT:FALSE
SUMMARY:"Cautionary Tales: Estate Planning Lessons Learned the Hard Way"
DESCRIPTION:Hear real-life stories of estate planning gone wrong and the costly mistakes that followed. We will uncover critical lessons on how to avoid common pitfalls\, from outdated wills to poor trust decisions\, ensuring your plan doesn't end up in a family disaster. Learn how to make smarter choices today to protect your legacy tomorrow.
X-ALT-DESC;FMTTYPE=text/html:Hear real-life stories of estate planning gone wrong and the costly mistakes that followed. We will uncover critical lessons on how to avoid common pitfalls\, from outdated wills to poor trust decisions\, ensuring your plan doesn&rsquo\;t end up in a family disaster. Learn how to make smarter choices today to protect your legacy tomorrow.
LOCATION:Virtual Via Zoom
UID:e.1644.6684
SEQUENCE:3
DTSTAMP:20260424T111542Z
URL:https://business.chapinchamber.com/events/details/cautionary-tales-estate-planning-lessons-learned-the-hard-way-6684
END:VEVENT

END:VCALENDAR
