BEGIN:VCALENDAR
VERSION:2.0
PRODID:-//ChamberMaster//Event Calendar 2.0//EN
METHOD:PUBLISH
X-PUBLISHED-TTL:P3D
REFRESH-INTERVAL:P3D
CALSCALE:GREGORIAN
BEGIN:VEVENT
DTSTART:20180626T180000Z
DTEND:20180626T190000Z
X-MICROSOFT-CDO-ALLDAYEVENT:FALSE
SUMMARY:Chad Crews: Reading Rocks
DESCRIPTION:With a hilarious combination of magic\, music\, storytelling and live animals\, Chad Crews shows how reading makes life a rocking adventure.  For more information call (803) 345-5479.  Grades K - 5
X-ALT-DESC;FMTTYPE=text/html:With a hilarious combination of magic\, music\, storytelling and live animals\, Chad Crews shows how reading makes life a rocking adventure.&nbsp\; For more information call (803) 345-5479.&nbsp\; Grades K - 5&nbsp\;
LOCATION:Chapin Branch Library - 129 NW Columbia Avenue\, Chapin
UID:e.1644.2197
SEQUENCE:3
DTSTAMP:20260423T000102Z
URL:https://business.chapinchamber.com/events/details/chad-crews-reading-rocks-2197
END:VEVENT

END:VCALENDAR
