BEGIN:VCALENDAR
VERSION:2.0
PRODID:-//ChamberMaster//Event Calendar 2.0//EN
METHOD:PUBLISH
X-PUBLISHED-TTL:P3D
REFRESH-INTERVAL:P3D
CALSCALE:GREGORIAN
BEGIN:VEVENT
DTSTART:20181220T223000Z
DTEND:20181221T003000Z
X-MICROSOFT-CDO-ALLDAYEVENT:FALSE
SUMMARY:Chamber Member Christmas Open House
DESCRIPTION:Merry everything\, happy always! Come celebrate the Holidays with us at our annual Christmas Drop In.  Our Chamber House\, so beautifully decorated by the Chapin Garden Club\, is a sight to see!  Join us Thursday December 20th from 5:30   7:30 p.m. @ 302 Columbia Avenue\, Chapin.  ALL members and their families are welcome to drop by for some Pre-Holiday celebrating.   Mix and Mingle\, enjoy light appetizers\, beverages & Christmas Music. Santa & Mrs. Claus will be stopping by for picture taking.
X-ALT-DESC;FMTTYPE=text/html:<span style="color: rgb(68\, 68\, 68)\; font-family: OpenSansRegular\; font-size: 14px\; background-color: rgb(255\, 255\, 255)\;">Merry everything\, happy always! Come celebrate the Holidays with us at our annual Christmas Drop In.&nbsp\; Our Chamber House\, so beautifully decorated by the Chapin Garden Club\, is a sight to see!&nbsp\; Join us&nbsp\;</span><strong style="margin: 0px\; padding: 0px\; border: 0px\; background: none rgb(255\, 255\, 255)\; outline: none\; color: rgb(68\, 68\, 68)\; font-family: OpenSansRegular\; font-size: 14px\;">Thursday December 20th from 5:30 &ndash\; 7:30 p.m. @ 302 Columbia Avenue\, Chapin.&nbsp\;</strong><span style="color: rgb(68\, 68\, 68)\; font-family: OpenSansRegular\; font-size: 14px\; background-color: rgb(255\, 255\, 255)\;">&nbsp\;ALL members and their families are welcome to drop by for some Pre-Holiday celebrating.&nbsp\; &nbsp\;Mix and Mingle\, enjoy light appetizers\, beverages &amp\; Christmas Music. Santa &amp\; Mrs. Claus will be stopping by for picture taking.</span>
LOCATION:Chapin Chamber House - 302 Columbia Avenue\, Chapin
UID:e.1644.2279
SEQUENCE:3
DTSTAMP:20260422T143631Z
URL:https://business.chapinchamber.com/events/details/chamber-member-christmas-open-house-2279
END:VEVENT

END:VCALENDAR
