BEGIN:VCALENDAR
VERSION:2.0
PRODID:-//ChamberMaster//Event Calendar 2.0//EN
METHOD:PUBLISH
X-PUBLISHED-TTL:P3D
REFRESH-INTERVAL:P3D
CALSCALE:GREGORIAN
BEGIN:VEVENT
DTSTART;VALUE=DATE:20181224
DTEND;VALUE=DATE:20190102
TRANSP:TRANSPARENT
X-MICROSOFT-CDO-ALLDAYEVENT:TRUE
SUMMARY:Chamber Office Closed for Holidays
DESCRIPTION:The Chapin Chamber Office will be closed from Monday December 24th through to January 1st.  We will reopen on Wednesday January 2nd at 9:00 a.m.
X-ALT-DESC;FMTTYPE=text/html:The Chapin Chamber Office will be closed from Monday December 24th through to January 1st.&nbsp\; We will reopen on Wednesday January 2nd at 9:00 a.m.
LOCATION:
UID:e.1644.2281
SEQUENCE:3
DTSTAMP:20260422T105307Z
URL:https://business.chapinchamber.com/events/details/chamber-office-closed-for-holidays-2281
END:VEVENT

END:VCALENDAR
