BEGIN:VCALENDAR
VERSION:2.0
PRODID:-//ChamberMaster//Event Calendar 2.0//EN
METHOD:PUBLISH
X-PUBLISHED-TTL:P3D
REFRESH-INTERVAL:P3D
CALSCALE:GREGORIAN
BEGIN:VEVENT
DTSTART:20190527T140000Z
DTEND:20190527T150000Z
X-MICROSOFT-CDO-ALLDAYEVENT:FALSE
SUMMARY:Chapin American Legion Post 193 - Memorial Day Ceremony
DESCRIPTION:Mr. John Siemers\, Post Commander of the American Legion Post 193 cordially invites you to attend the Chapin Memorial Day Ceremony. Dress is casual. Reception will follow the ceremony in the Town Hall Community room.
X-ALT-DESC;FMTTYPE=text/html:Mr. John Siemers\, Post Commander of the American Legion Post 193 cordially invites you to attend the Chapin Memorial Day Ceremony. Dress is casual. Reception will follow the ceremony in the Town Hall Community room.&nbsp\;&nbsp\;
LOCATION:Chapin Town Hall - 157 NW Columbia Avenue\, Chapin
UID:e.1644.2454
SEQUENCE:3
DTSTAMP:20260422T055245Z
URL:https://business.chapinchamber.com/events/details/chapin-american-legion-post-193-memorial-day-ceremony-2454
END:VEVENT

END:VCALENDAR
