BEGIN:VCALENDAR
VERSION:2.0
PRODID:-//ChamberMaster//Event Calendar 2.0//EN
METHOD:PUBLISH
X-PUBLISHED-TTL:P3D
REFRESH-INTERVAL:P3D
CALSCALE:GREGORIAN
BEGIN:VEVENT
DTSTART:20181109T130000Z
DTEND:20181109T140000Z
X-MICROSOFT-CDO-ALLDAYEVENT:FALSE
SUMMARY:Chapin American Legion Veteran's Day Parade
DESCRIPTION:The 9th Annual Chapin Post 193 American Legion Veteran's Day Parade will start at 8:10 a.m with police escort to the library (short presentation at the Veteran's Memorial from 8:15 - 8:30\, then on to BiLo's\, Food Lion\, CIS\, and on to CES by 8:50 a.m.
X-ALT-DESC;FMTTYPE=text/html:The 9th Annual Chapin Post 193 American Legion Veteran&#39\;s Day Parade will start at 8:10 a.m with police escort to the library (short presentation at the Veteran&#39\;s Memorial from 8:15 - 8:30\, then on to BiLo&#39\;s\, Food Lion\, CIS\, and on to CES by 8:50 a.m.&nbsp\;
LOCATION:Light refreshments will be served immediately following the celebration. Everyone is invited and encouraged to support the event and attend the program at Chapin Elementary School (CES)
UID:e.1644.2272
SEQUENCE:3
DTSTAMP:20260422T145759Z
URL:https://business.chapinchamber.com/events/details/chapin-american-legion-veteran-s-day-parade-2272
END:VEVENT

END:VCALENDAR
