BEGIN:VCALENDAR
VERSION:2.0
PRODID:-//ChamberMaster//Event Calendar 2.0//EN
METHOD:PUBLISH
X-PUBLISHED-TTL:P3D
REFRESH-INTERVAL:P3D
CALSCALE:GREGORIAN
BEGIN:VEVENT
DTSTART:20190130T223000Z
DTEND:20190130T233000Z
X-MICROSOFT-CDO-ALLDAYEVENT:FALSE
SUMMARY:Chapin Chamber Ambassador Meeting
DESCRIPTION:Chamber Ambassadors\, please join Rebecca for the first meeting to help improve the Chamber and discuss upcoming events.  If you're interested in joining the Ambassador Committee\, contact Rebecca at director@chapinchamber.com
X-ALT-DESC;FMTTYPE=text/html:Chamber Ambassadors\, please join Rebecca for the first meeting to help improve the Chamber and discuss upcoming events.&nbsp\; If you&#39\;re interested in joining the Ambassador Committee\, contact Rebecca at director@chapinchamber.com
LOCATION:Chapin Chamber of Commerce\, 302 Columbia Avenue\, Chapin SC
UID:e.1644.2291
SEQUENCE:3
DTSTAMP:20260422T105825Z
URL:https://business.chapinchamber.com/events/details/chapin-chamber-ambassador-meeting-01-30-2019-2291
END:VEVENT

END:VCALENDAR
