BEGIN:VCALENDAR
VERSION:2.0
PRODID:-//ChamberMaster//Event Calendar 2.0//EN
METHOD:PUBLISH
X-PUBLISHED-TTL:P3D
REFRESH-INTERVAL:P3D
CALSCALE:GREGORIAN
BEGIN:VEVENT
DTSTART:20181117T000000Z
DTEND:20181117T040000Z
X-MICROSOFT-CDO-ALLDAYEVENT:FALSE
SUMMARY:Chapin Chamber Annual Awards Gala & Silent Auction
DESCRIPTION:Mark your calendars\, it's going to be a special night.\n\nYou're invited to our Annual Member Gala and Silent Auction!
X-ALT-DESC;FMTTYPE=text/html:<div align="center" style="color: rgb(64\, 63\, 66)\; font-family: Arial\, Verdana\, Helvetica\, sans-serif\; font-size: 12px\; background-color: rgb(255\, 255\, 255)\; text-align: center\;"><span style="color:#000000\;"><span style="font-size: 14px\;">Mark your calendars\, it&#39\;s going to be a special night.</span></span></div>\n\n<div align="center" style="color: rgb(64\, 63\, 66)\; font-family: Arial\, Verdana\, Helvetica\, sans-serif\; font-size: 12px\; background-color: rgb(255\, 255\, 255)\; text-align: center\;"><span style="color:#000000\;"><span style="font-size: 14px\;">You&#39\;re invited to our Annual Member Gala and Silent Auction!</span></span></div>\n
LOCATION:Our Lady of the Lake Catholic Church\, 195 Amicks Ferry Road\, Chapin
UID:e.1644.2263
SEQUENCE:3
DTSTAMP:20260422T170457Z
URL:https://business.chapinchamber.com/events/details/chapin-chamber-annual-awards-gala-silent-auction-2263
END:VEVENT

END:VCALENDAR
