BEGIN:VCALENDAR
VERSION:2.0
PRODID:-//ChamberMaster//Event Calendar 2.0//EN
METHOD:PUBLISH
X-PUBLISHED-TTL:P3D
REFRESH-INTERVAL:P3D
CALSCALE:GREGORIAN
BEGIN:VEVENT
DTSTART:20200921T160000Z
DTEND:20200921T223000Z
X-MICROSOFT-CDO-ALLDAYEVENT:FALSE
SUMMARY:Chapin Chamber Annual Golf Tournament
DESCRIPTION:Please join us for this year's Annual Golf Tournament. This year it will be held at The Mid Carolina Club and will be single shotgun. Payment and registration is due by September 14th. Bagged lunch and drinks will be provided. To sign up to be a sponsor or to register a golf team\, please print off the respective forms and mail them to the Chamber at 577 Columbia Ave along with a check. If you would rather pay with a card\, please click here.\n\n\n\nGOLF SPONSORSHIP FORM\n\nTEAM REGISTRATION FORM
X-ALT-DESC;FMTTYPE=text/html:Please join us for this year&#39\;s Annual Golf Tournament. This year it will be held at The Mid Carolina Club and will be single shotgun. Payment and registration is due by September 14th. Bagged lunch and drinks will be provided. To sign up to be a sponsor or to register a golf team\, please print off the respective forms and mail them to the Chamber at 577 Columbia Ave along with a check. If you would rather pay with a card\, please click <a href="http://events.constantcontact.com/register/event?llr=4nhemhkab&amp\;oeidk=a07eh38rbn1a75b79e6">here</a>.<br />\n<br />\n<strong><a href="http://www.chapinchamber.com/wp-content/uploads/2020/05/2020-Golf-Sponsorship-Form.pdf">GOLF SPONSORSHIP FORM</a><br />\n<a href="http://www.chapinchamber.com/wp-content/uploads/2020/05/2020-Golf-Team-Registration.pdf">TEAM REGISTRATION FORM&nbsp\;</a></strong>
LOCATION:Mid Carolina Country Club 3593 Kibler Bridge Rd Prosperity SC\, 29217
UID:e.1644.3612
SEQUENCE:3
DTSTAMP:20260423T171105Z
URL:https://business.chapinchamber.com/events/details/chapin-chamber-annual-golf-tournament-3612
END:VEVENT

END:VCALENDAR
