BEGIN:VCALENDAR
VERSION:2.0
PRODID:-//ChamberMaster//Event Calendar 2.0//EN
METHOD:PUBLISH
X-PUBLISHED-TTL:P3D
REFRESH-INTERVAL:P3D
CALSCALE:GREGORIAN
BEGIN:VEVENT
DTSTART:20190110T180000Z
DTEND:20190110T220000Z
X-MICROSOFT-CDO-ALLDAYEVENT:FALSE
SUMMARY:Chapin Chamber Board Retreat
DESCRIPTION:The Chapin Chamber will be closed this afternoon for our annual Board Retreat
X-ALT-DESC;FMTTYPE=text/html:The Chapin Chamber will be closed this afternoon for our annual Board Retreat
LOCATION:Timberlake Country Club - Purple Martin Grille - 222 Timberlake Drive\, Chapin
UID:e.1644.2294
SEQUENCE:3
DTSTAMP:20260422T105317Z
URL:https://business.chapinchamber.com/events/details/chapin-chamber-board-retreat-2294
END:VEVENT

END:VCALENDAR
