BEGIN:VCALENDAR
VERSION:2.0
PRODID:-//ChamberMaster//Event Calendar 2.0//EN
METHOD:PUBLISH
X-PUBLISHED-TTL:P3D
REFRESH-INTERVAL:P3D
CALSCALE:GREGORIAN
BEGIN:VEVENT
DTSTART:20191210T140000Z
DTEND:20191210T220000Z
X-MICROSOFT-CDO-ALLDAYEVENT:FALSE
SUMMARY:Chapin Chamber Board Retreat
DESCRIPTION:Chapin Chamber Board Retreat
X-ALT-DESC;FMTTYPE=text/html:Chapin Chamber Board Retreat&nbsp\;&nbsp\; &nbsp\;
LOCATION:Hyatt Place 1130 Kinley Rd. Irmo SC\, 29063
UID:e.1644.3585
SEQUENCE:3
DTSTAMP:20260425T211406Z
URL:https://business.chapinchamber.com/events/details/chapin-chamber-board-retreat-3585
END:VEVENT

END:VCALENDAR
