BEGIN:VCALENDAR
VERSION:2.0
PRODID:-//ChamberMaster//Event Calendar 2.0//EN
METHOD:PUBLISH
X-PUBLISHED-TTL:P3D
REFRESH-INTERVAL:P3D
CALSCALE:GREGORIAN
BEGIN:VEVENT
DTSTART:20190612T210000Z
DTEND:20190612T230000Z
X-MICROSOFT-CDO-ALLDAYEVENT:FALSE
SUMMARY:Chapin Chamber Business Expo
DESCRIPTION:Booth Registration is now open for this years Business Expo.   \n\n \n\nThis event offers the business community\, from smaller business entrepreneurs to senior executives\, an opportunity to network with local professionals\, engage with exhibitors and residents of the community\, as well as discover new resources for business growth.  REGISTRATION FORM\n\n \n\nWe look forward to seeing you there!
X-ALT-DESC;FMTTYPE=text/html:<div style="color: rgb(34\, 34\, 34)\; font-family: Arial\, Helvetica\, sans-serif\; font-size: small\; background-color: rgb(255\, 255\, 255)\;">Booth Registration is now open for this years Business Expo.&nbsp\; &nbsp\;</div>\n\n<div style="color: rgb(34\, 34\, 34)\; font-family: Arial\, Helvetica\, sans-serif\; font-size: small\; background-color: rgb(255\, 255\, 255)\;">&nbsp\;</div>\n\n<div style="color: rgb(34\, 34\, 34)\; font-family: Arial\, Helvetica\, sans-serif\; font-size: small\; background-color: rgb(255\, 255\, 255)\;">This event offers the business community\, from smaller business entrepreneurs to senior executives\, an opportunity to network with local professionals\, engage with exhibitors and residents of the community\, as well as discover new resources for business growth.&nbsp\; <a href="https://chambermaster.blob.core.windows.net/userfiles/UserFiles/chambers/1644/File/BusinessExpoSignupSheet2019.docx">REGISTRATION FORM</a></div>\n\n<div style="color: rgb(34\, 34\, 34)\; font-family: Arial\, Helvetica\, sans-serif\; font-size: small\; background-color: rgb(255\, 255\, 255)\;">&nbsp\;</div>\n\n<div style="color: rgb(34\, 34\, 34)\; font-family: Arial\, Helvetica\, sans-serif\; font-size: small\; background-color: rgb(255\, 255\, 255)\;">We look forward to seeing you there!&nbsp\;</div>\n
LOCATION:Heritage at Lowman - 2101 Dutch Fork Road\, White Rock
UID:e.1644.2440
SEQUENCE:3
DTSTAMP:20260422T020040Z
URL:https://business.chapinchamber.com/events/details/chapin-chamber-business-expo-2440
END:VEVENT

END:VCALENDAR
