BEGIN:VCALENDAR
VERSION:2.0
PRODID:-//ChamberMaster//Event Calendar 2.0//EN
METHOD:PUBLISH
X-PUBLISHED-TTL:P3D
REFRESH-INTERVAL:P3D
CALSCALE:GREGORIAN
BEGIN:VEVENT
DTSTART:20191202T170000Z
DTEND:20191202T180000Z
X-MICROSOFT-CDO-ALLDAYEVENT:FALSE
SUMMARY:Chapin Chamber Irish Discovery Package Tour 2020
DESCRIPTION:Rich in history\, scenic Ireland is the destination for this exciting trip in September 2020!  Visit stunning destinations such as Limerick\, Cliffs of Moher\, Ring of Kerry and even an optional Belfast extension!  Join us for an information session with Chamber Explorations Representatives to learn more about this exciting package tour.   Click HERE to register.
X-ALT-DESC;FMTTYPE=text/html:Rich in history\, scenic Ireland is the destination for this exciting trip in September 2020!&nbsp\; Visit stunning destinations such as Limerick\, Cliffs of Moher\, Ring of Kerry and even an optional Belfast extension!&nbsp\; Join us for an information session with Chamber Explorations Representatives to learn more about this exciting package tour.&nbsp\; &nbsp\;Click <a href="http://events.r20.constantcontact.com/register/event?oeidk=a07egppd4ftc4303b08&amp\;llr=4nhemhkab"><strong>HERE</strong></a> to register.&nbsp\;
LOCATION:Chapin Chamber of Commerce - 302 Columbia Avenue
UID:e.1644.3560
SEQUENCE:3
DTSTAMP:20260425T211543Z
URL:https://business.chapinchamber.com/events/details/chapin-chamber-irish-discovery-package-tour-2020-3560
END:VEVENT

END:VCALENDAR
