BEGIN:VCALENDAR
VERSION:2.0
PRODID:-//ChamberMaster//Event Calendar 2.0//EN
METHOD:PUBLISH
X-PUBLISHED-TTL:P3D
REFRESH-INTERVAL:P3D
CALSCALE:GREGORIAN
BEGIN:VEVENT
DTSTART:20191009T153000Z
DTEND:20191009T163000Z
X-MICROSOFT-CDO-ALLDAYEVENT:FALSE
SUMMARY:Chapin Chamber October Lunch & Learn
DESCRIPTION:Please join us as we partner with the Chapin Branch Library to offer the Chamber's third "Lunch & Learn" in our series\, hosted by Capital Kitchen and Bath.  Speaker to be announced.  Space will be limited to the first 30 registrants.
X-ALT-DESC;FMTTYPE=text/html:<span style="font-family:arial\;">Please join us as we partner with the Chapin Branch Library to offer the Chamber&#39\;s third &quot\;Lunch &amp\; Learn&quot\; in our series\, hosted by Capital Kitchen and Bath.&nbsp\; Speaker to be announced.&nbsp\; Space will be limited to the first 30 registrants.&nbsp\;&nbsp\;</span><br />\n<span style="font-family:arial\;">&nbsp\;</span>
LOCATION:Chapin Branch Library - 129 Columbia Avenue\, Chapin SC
UID:e.1644.2516
SEQUENCE:3
DTSTAMP:20260425T230321Z
URL:https://business.chapinchamber.com/events/details/chapin-chamber-october-lunch-learn-2516
END:VEVENT

END:VCALENDAR
