BEGIN:VCALENDAR
VERSION:2.0
PRODID:-//ChamberMaster//Event Calendar 2.0//EN
METHOD:PUBLISH
X-PUBLISHED-TTL:P3D
REFRESH-INTERVAL:P3D
CALSCALE:GREGORIAN
BEGIN:VEVENT
DTSTART:20190906T000000Z
DTEND:20190906T010000Z
X-MICROSOFT-CDO-ALLDAYEVENT:FALSE
SUMMARY:Chapin Chamber's Karaoke Competition - Week 3
DESCRIPTION:Please join us for Week Three of the Chapin Chamber Karaoke Competition! Sign-ups are first come - first serve\, so make sure to get there early to register. The winner of each week will compete at the Chapin Chamber's Night of Comedy and Karaoke for the chance to win bragging rights\, a trophy and $250.00 cash!!  **Winners of each weekly competition must commit to attend the final event on Saturday September 21st**
X-ALT-DESC;FMTTYPE=text/html:Please join us for Week Three of the Chapin Chamber Karaoke Competition! Sign-ups are first come - first serve\, so make sure to get there early to register. The winner of each week will compete at the Chapin Chamber&#39\;s Night of Comedy and Karaoke for the chance to win bragging rights\, a trophy and $250.00 cash!!&nbsp\; **Winners of each weekly competition must commit to attend the final event on Saturday September 21st**<br />\n&nbsp\;
LOCATION:The Tipsy Toad Tavern - 103 Beaufort Street\, Chapin
UID:e.1644.2514
SEQUENCE:3
DTSTAMP:20260426T022143Z
URL:https://business.chapinchamber.com/events/details/chapin-chamber-s-karaoke-competition-week-3-2514
END:VEVENT

END:VCALENDAR
