BEGIN:VCALENDAR
VERSION:2.0
PRODID:-//ChamberMaster//Event Calendar 2.0//EN
METHOD:PUBLISH
X-PUBLISHED-TTL:P3D
REFRESH-INTERVAL:P3D
CALSCALE:GREGORIAN
BEGIN:VEVENT
DTSTART:20191012T213000Z
DTEND:20191013T010000Z
X-MICROSOFT-CDO-ALLDAYEVENT:FALSE
SUMMARY:Chapin Chili Cook Off - Fall for Chapin
DESCRIPTION:Fall for Chapin with a Chili Cook Off Festival\, Live Music & Fun!  This event benefits the Greater Chapin Community Endowment supporting local non-profit organizations.  Live Music by 3 different bands! River Baby Ruth Water Revival opens up at 5:30 p.m. Bluegrass mixed with the Grateful Dead. Ty Potter plays inside at 9:00 p.m.
X-ALT-DESC;FMTTYPE=text/html:Fall for Chapin with a Chili Cook Off Festival\, Live Music &amp\; Fun!&nbsp\; This event benefits the Greater Chapin Community Endowment supporting local non-profit organizations.&nbsp\; Live Music by 3 different bands! River Baby Ruth Water Revival opens up at 5:30 p.m. Bluegrass mixed with the Grateful Dead. Ty Potter plays inside at 9:00 p.m.
LOCATION:Beaufort Street\, Chapin
UID:e.1644.2538
SEQUENCE:3
DTSTAMP:20260425T230536Z
URL:https://business.chapinchamber.com/events/details/chapin-chili-cook-off-fall-for-chapin-2538
END:VEVENT

END:VCALENDAR
