BEGIN:VCALENDAR
VERSION:2.0
PRODID:-//ChamberMaster//Event Calendar 2.0//EN
METHOD:PUBLISH
X-PUBLISHED-TTL:P3D
REFRESH-INTERVAL:P3D
CALSCALE:GREGORIAN
BEGIN:VEVENT
DTSTART:20191105T223000Z
DTEND:20191106T003000Z
X-MICROSOFT-CDO-ALLDAYEVENT:FALSE
SUMMARY:Chapin Community Education Forum
DESCRIPTION:Hosted by Chapin Elementary School. Join them for an informative night with their elected officials and hear what's going on with the state of education in SC!
X-ALT-DESC;FMTTYPE=text/html:Hosted by Chapin Elementary School. Join them for an informative night with their elected officials and hear what&#39\;s going on with the state of education in SC!&nbsp\;&nbsp\;<br />\n&nbsp\;
LOCATION:940 Old Bush River Road - Chapin Elementary School - Chapin
UID:e.1644.3555
SEQUENCE:3
DTSTAMP:20260425T211258Z
URL:https://business.chapinchamber.com/events/details/chapin-community-education-forum-3555
END:VEVENT

END:VCALENDAR
