BEGIN:VCALENDAR
VERSION:2.0
PRODID:-//ChamberMaster//Event Calendar 2.0//EN
METHOD:PUBLISH
X-PUBLISHED-TTL:P3D
REFRESH-INTERVAL:P3D
CALSCALE:GREGORIAN
BEGIN:VEVENT
DTSTART:20180707T133000Z
DTEND:20180707T170000Z
X-MICROSOFT-CDO-ALLDAYEVENT:FALSE
SUMMARY:Chapin Downtown Farmers Market
DESCRIPTION:On the first Saturday of each month\, head on down to 100 Clark Street to experience different\, exciting themes and free demonstrations designed to promote healthy eating and physical activity.  Also planned for attendance are prepared food vendors\, live music\, activities for kids and great SC grown produce and agriculture products.
X-ALT-DESC;FMTTYPE=text/html:On the first Saturday of each month\, head on down to 100 Clark Street to experience different\, exciting themes and free demonstrations designed to promote healthy eating and physical activity.&nbsp\; Also planned for attendance are prepared food vendors\, live music\, activities for kids and great SC grown produce and agriculture products.&nbsp\;&nbsp\;
LOCATION:100 Clark Street\, Chapin VENDOR RULES AND APPLICATION
UID:e.1644.2204
SEQUENCE:3
DTSTAMP:20260422T221657Z
URL:https://business.chapinchamber.com/events/details/chapin-downtown-farmers-market-2204
END:VEVENT

END:VCALENDAR
