BEGIN:VCALENDAR
VERSION:2.0
PRODID:-//ChamberMaster//Event Calendar 2.0//EN
METHOD:PUBLISH
X-PUBLISHED-TTL:P3D
REFRESH-INTERVAL:P3D
CALSCALE:GREGORIAN
BEGIN:VEVENT
DTSTART:20180804T133000Z
DTEND:20180804T170000Z
X-MICROSOFT-CDO-ALLDAYEVENT:FALSE
SUMMARY:Chapin Downtown Farmers Market
DESCRIPTION:The Chapin Downtown Farmer's Market offers the community a local place to shop\, visit\, eat and\, most importantly\, enjoy themselves.
X-ALT-DESC;FMTTYPE=text/html:<span style="color: rgb(29\, 33\, 41)\; font-family: Helvetica\, Arial\, sans-serif\; font-size: 14px\; background-color: rgb(255\, 255\, 255)\;">The Chapin Downtown Farmer&rsquo\;s Market offers the community a local place to shop\, visit\, eat and\, most importantly\, enjoy themselves.</span>
LOCATION:Located on the 100 Block of Clark Street\, Chapin SC
UID:e.1644.2214
SEQUENCE:3
DTSTAMP:20260422T220648Z
URL:https://business.chapinchamber.com/events/details/chapin-downtown-farmers-market-2214
END:VEVENT

END:VCALENDAR
