BEGIN:VCALENDAR
VERSION:2.0
PRODID:-//ChamberMaster//Event Calendar 2.0//EN
METHOD:PUBLISH
X-PUBLISHED-TTL:P3D
REFRESH-INTERVAL:P3D
CALSCALE:GREGORIAN
BEGIN:VEVENT
DTSTART:20190601T133000Z
DTEND:20190601T170000Z
X-MICROSOFT-CDO-ALLDAYEVENT:FALSE
SUMMARY:Chapin Downtown Farmers Market
DESCRIPTION:The Chapin Downtown Farmer's Market is intended as a farmer/ grower and local artisan market that uses a community- friendly atmosphere to promote local farmers. Featuring local food - trucks\, artists\, vendors and entertainment\, there is something for everyone. They are even pet friendly! Come visit Chapin Downtown Farmer's Market\, you will be surprised by what you find!
X-ALT-DESC;FMTTYPE=text/html:<span style="font-family: Arial\, Verdana\, Helvetica\, sans-serif\; font-size: 14px\; text-align: center\; white-space: pre-wrap\; background-color: rgb(255\, 255\, 255)\;">The Chapin Downtown Farmer&#39\;s Market is intended as a farmer/ grower and local artisan market that uses a community- friendly atmosphere to promote local farmers. Featuring local food - trucks\, artists\, vendors and entertainment\, there is something for everyone. They are even pet friendly! Come visit Chapin Downtown Farmer&#39\;s Market\, you will be surprised by what you find! </span>
LOCATION:Block 100-106 Clark Street\, Chapin
UID:e.1644.2254
SEQUENCE:3
DTSTAMP:20260422T020057Z
URL:https://business.chapinchamber.com/events/details/chapin-downtown-farmers-market-2254
END:VEVENT

END:VCALENDAR
