BEGIN:VCALENDAR
VERSION:2.0
PRODID:-//ChamberMaster//Event Calendar 2.0//EN
METHOD:PUBLISH
X-PUBLISHED-TTL:P3D
REFRESH-INTERVAL:P3D
CALSCALE:GREGORIAN
BEGIN:VEVENT
DTSTART:20191005T133000Z
DTEND:20191005T170000Z
X-MICROSOFT-CDO-ALLDAYEVENT:FALSE
SUMMARY:Chapin Fall Art Festival
DESCRIPTION:Calling all Artists & Vendors!  Get in touch with Jerry Caldwell at the Coffee Shelf in Chapin @ (803) 932 - 2660 if you wish to participate as a vendor in this years 4th Annual Fall Festival.
X-ALT-DESC;FMTTYPE=text/html:Calling all Artists &amp\; Vendors!&nbsp\; Get in touch with Jerry Caldwell at the Coffee Shelf in Chapin @ (803) 932 - 2660 if you wish to participate as a vendor in this years 4th Annual Fall Festival.&nbsp\;
LOCATION:100 Clark Street\, Chapin SC
UID:e.1644.2539
SEQUENCE:3
DTSTAMP:20260426T004527Z
URL:https://business.chapinchamber.com/events/details/chapin-fall-art-festival-2539
END:VEVENT

END:VCALENDAR
