BEGIN:VCALENDAR
VERSION:2.0
PRODID:-//ChamberMaster//Event Calendar 2.0//EN
METHOD:PUBLISH
X-PUBLISHED-TTL:P3D
REFRESH-INTERVAL:P3D
CALSCALE:GREGORIAN
BEGIN:VEVENT
DTSTART:20191214T003000Z
DTEND:20191214T020000Z
X-MICROSOFT-CDO-ALLDAYEVENT:FALSE
SUMMARY:Chapin High School Choirs Present - Winter Concert
DESCRIPTION:Winter Concert by Chapin High School Choirs - Tickets are on sale now!\n\nGolden Eagle Cards from Lex/Rich 5 are honored at this event.
X-ALT-DESC;FMTTYPE=text/html:Winter Concert by Chapin High School Choirs - Tickets are on sale now!<br />\nGolden Eagle Cards from Lex/Rich 5 are honored at this event.&nbsp\;
LOCATION:Chapin Presbyterian Church - 600 Old Lexington Hwy\, Chapin
UID:e.1644.3579
SEQUENCE:3
DTSTAMP:20260425T192829Z
URL:https://business.chapinchamber.com/events/details/chapin-high-school-choirs-present-winter-concert-3579
END:VEVENT

END:VCALENDAR
