BEGIN:VCALENDAR
VERSION:2.0
PRODID:-//ChamberMaster//Event Calendar 2.0//EN
METHOD:PUBLISH
X-PUBLISHED-TTL:P3D
REFRESH-INTERVAL:P3D
CALSCALE:GREGORIAN
BEGIN:VEVENT
DTSTART:20190503T223000Z
DTEND:20190504T030000Z
X-MICROSOFT-CDO-ALLDAYEVENT:FALSE
SUMMARY:Chapin - Irmo Relay for Life
DESCRIPTION:Opening Ceremony commences at 6:30 p.m. Survivor's & Caregiver's Lap starts at 7:00 p.m. followed by a reception at 7:30 p.m. Luminara Ceremony will be held at 10:00 p.m.  Please come out and enjoy the fun and support the American Cancer Society.
X-ALT-DESC;FMTTYPE=text/html:Opening Ceremony commences at 6:30 p.m. Survivor&#39\;s &amp\; Caregiver&#39\;s Lap starts at 7:00 p.m. followed by a reception at 7:30 p.m. Luminara Ceremony will be held at 10:00 p.m.&nbsp\; Please come out and enjoy the fun and support the American Cancer Society.&nbsp\;
LOCATION:Crooked Creek Park - 1098 Old Lexington Hwy\, Chapin
UID:e.1644.2448
SEQUENCE:3
DTSTAMP:20260422T040048Z
URL:https://business.chapinchamber.com/events/details/chapin-irmo-relay-for-life-2448
END:VEVENT

END:VCALENDAR
