BEGIN:VCALENDAR
VERSION:2.0
PRODID:-//ChamberMaster//Event Calendar 2.0//EN
METHOD:PUBLISH
X-PUBLISHED-TTL:P3D
REFRESH-INTERVAL:P3D
CALSCALE:GREGORIAN
BEGIN:VEVENT
DTSTART:20190725T160000Z
DTEND:20190725T220000Z
X-MICROSOFT-CDO-ALLDAYEVENT:FALSE
SUMMARY:Chapin Job Fair
DESCRIPTION:The Chapin Chamber and the Town of Chapin\, South Carolina\n\nare hosting a Chapin Job Fair on July 25th\, 2019 from\n\n12:00 p.m. - 6:00 p.m. at the Chapin Town Hall.\n\nThis event is open to the public.\n\nAll job seekers are encouraged to attend and to bring an updated resume. \n\n\n\n*If you are an employer and wish to participate\, please contact Nicholle Burroughs at communications@chapinsc.com or Rebecca Hines at director@chapinchamber.com*
X-ALT-DESC;FMTTYPE=text/html:<span style="color: rgb(28\, 30\, 33)\; font-family: Helvetica\, Arial\, sans-serif\; font-size: 14px\; background-color: rgb(255\, 255\, 255)\;">The Chapin Chamber and the Town of Chapin\, South Carolina<br />\nare hosting a Chapin Job Fair on July 25th\, 2019 from<br />\n12:00 p.m. - 6:00 p.m. at the Chapin Town Hall.<br />\nThis event is open to the public.<br />\nAll job seekers are encouraged to attend and to bring an updated resume.&nbsp\;</span><br style="color: rgb(28\, 30\, 33)\; font-family: Helvetica\, Arial\, sans-serif\; font-size: 14px\; background-color: rgb(255\, 255\, 255)\;" />\n<br style="color: rgb(28\, 30\, 33)\; font-family: Helvetica\, Arial\, sans-serif\; font-size: 14px\; background-color: rgb(255\, 255\, 255)\;" />\n<span style="font-family: Helvetica\, Arial\, sans-serif\; color: rgb(28\, 30\, 33)\; font-size: 14px\; background-color: rgb(255\, 255\, 255)\;">*If you are an employer and wish to participate\, please contact Nicholle Burroughs at communications@chapinsc.co</span><wbr style="color: rgb(28\, 30\, 33)\; font-family: Helvetica\, Arial\, sans-serif\; font-size: 14px\; background-color: rgb(255\, 255\, 255)\;" /><span style="font-family: Helvetica\, Arial\, sans-serif\; color: rgb(28\, 30\, 33)\; font-size: 14px\; background-color: rgb(255\, 255\, 255)\;">m or Rebecca Hines at director@chapinchamber.com</span><wbr style="color: rgb(28\, 30\, 33)\; font-family: Helvetica\, Arial\, sans-serif\; font-size: 14px\; background-color: rgb(255\, 255\, 255)\;" /><span style="color: rgb(28\, 30\, 33)\; font-family: Helvetica\, Arial\, sans-serif\; font-size: 14px\; background-color: rgb(255\, 255\, 255)\;">*</span>
LOCATION:Town of Chapin\, 157 NW Columbia Avenue\, Chapin
UID:e.1644.2496
SEQUENCE:3
DTSTAMP:20260421T201630Z
URL:https://business.chapinchamber.com/events/details/chapin-job-fair-2496
END:VEVENT

END:VCALENDAR
