BEGIN:VCALENDAR
VERSION:2.0
PRODID:-//ChamberMaster//Event Calendar 2.0//EN
METHOD:PUBLISH
X-PUBLISHED-TTL:P3D
REFRESH-INTERVAL:P3D
CALSCALE:GREGORIAN
BEGIN:VEVENT
DTSTART;VALUE=DATE:20190902
DTEND;VALUE=DATE:20190903
TRANSP:TRANSPARENT
X-MICROSOFT-CDO-ALLDAYEVENT:TRUE
SUMMARY:Chapin Labor Day Festival and Parade 2019
DESCRIPTION:Scheduled Events \n\nSaturday\, August 31\n\n  Justin Pepper 5K: Walk\, Run\, Ruck 8:00 a.m. -1:00 p.m\n\n\n	Saturday night concert on Beaufort Street benefiting We Care at 7 p.m. featuring Tokyo Jo.\n\n\nSunday\, September 1\n\n\n	Concert on Beaufort Street featuring Noel Lindler and the Bank Walkers party starts at 7 pm.\n	Bring your lawn chairs\, but no coolers allowed\n\n\nMonday\, September 2\n\n\n	Labor Day Parade begins at 9:30 am (Streets close at 9 am) at GIS parking lot (912 Chapin Road) and travels to St. Peters Church Road\n	Classic Car Show in the Mt. Horeb parking lot of Beaufort Street presented by Columbia Classic Chevy Club.\n	Over 130 Vendors with Children's Play Area and three bounce houses.\n	Chapin Library Book Sale immediately following the parade at Town Hall. Sale ends at 2:00 pm.\n	AMROC Model Train Exhibit held in the American Legion Post 193 Building.
X-ALT-DESC;FMTTYPE=text/html:<div style="color: rgb(64\, 63\, 66)\; font-family: Arial\, Verdana\, Helvetica\, sans-serif\; font-size: 14px\; white-space: pre-wrap\; background-color: rgb(255\, 255\, 255)\; text-align: center\;"><span style="font-size: 16px\; color: rgb(0\, 84\, 166)\; font-weight: bold\;">Scheduled Events&nbsp\;</span></div>\n\n<div style="color: rgb(64\, 63\, 66)\; font-family: Arial\, Verdana\, Helvetica\, sans-serif\; font-size: 14px\; white-space: pre-wrap\; background-color: rgb(255\, 255\, 255)\;"><span style="color: rgb(31\, 61\, 93)\; font-weight: bold\;">Saturday\, August 31</span></div>\n\n<div style="color: rgb(64\, 63\, 66)\; font-family: Arial\, Verdana\, Helvetica\, sans-serif\; font-size: 14px\; white-space: pre-wrap\; background-color: rgb(255\, 255\, 255)\;"><a href="https://www.justinpepper5k.org/" style="color: rgb(31\, 61\, 93)\; font-weight: bold\;" target="_blank">&#65279\;</a> <a data-link-type="web" href="https://www.justinpepper5k.org/" style="color: rgb(9\, 163\, 186)\;" target="_blank">Justin Pepper 5K: Walk\, Run\, Ruck 8:00 a.m. -1:00 p.m</a></div>\n\n<ul style="padding: 0px\; margin: 0px 0px 0px 40px\; color: rgb(64\, 63\, 66)\; font-family: Arial\, Verdana\, Helvetica\, sans-serif\; font-size: 14px\; white-space: pre-wrap\; background-color: rgb(255\, 255\, 255)\;">\n	<li style="padding: 0px\; margin: 0px\; line-height: 1.2\; color: rgb(0\, 0\, 0)\;">Saturday night concert on Beaufort Street benefiting We Care at 7 p.m. featuring Tokyo Jo.</li>\n</ul>\n\n<div style="color: rgb(64\, 63\, 66)\; font-family: Arial\, Verdana\, Helvetica\, sans-serif\; font-size: 14px\; white-space: pre-wrap\; background-color: rgb(255\, 255\, 255)\;"><span style="color: rgb(31\, 61\, 93)\; font-weight: bold\;">Sunday\, September 1</span></div>\n\n<ul style="padding: 0px\; margin: 0px 0px 0px 40px\; color: rgb(64\, 63\, 66)\; font-family: Arial\, Verdana\, Helvetica\, sans-serif\; font-size: 14px\; white-space: pre-wrap\; background-color: rgb(255\, 255\, 255)\;">\n	<li style="padding: 0px\; margin: 0px\; line-height: 1.2\; color: rgb(0\, 0\, 0)\;">Concert on Beaufort Street featuring Noel Lindler and the Bank Walkers party starts at 7 pm.</li>\n	<li style="padding: 0px\; margin: 0px\; line-height: 1.2\; color: rgb(0\, 0\, 0)\;">Bring your lawn chairs\, but no coolers allowed</li>\n</ul>\n\n<div style="color: rgb(64\, 63\, 66)\; font-family: Arial\, Verdana\, Helvetica\, sans-serif\; font-size: 14px\; white-space: pre-wrap\; background-color: rgb(255\, 255\, 255)\;"><span style="color: rgb(31\, 61\, 93)\; font-weight: bold\;">Monday\, September 2</span></div>\n\n<ul style="padding: 0px\; margin: 0px 0px 0px 40px\; color: rgb(64\, 63\, 66)\; font-family: Arial\, Verdana\, Helvetica\, sans-serif\; font-size: 14px\; white-space: pre-wrap\; background-color: rgb(255\, 255\, 255)\;">\n	<li style="padding: 0px\; margin: 0px\; line-height: 1.2\; color: rgb(0\, 0\, 0)\;">Labor Day Parade begins at 9:30 am (Streets close at 9 am) at GIS parking lot (912 Chapin Road) and travels to St. Peters Church Road</li>\n	<li style="padding: 0px\; margin: 0px\; line-height: 1.2\; color: rgb(0\, 0\, 0)\;">Classic Car Show in the Mt. Horeb parking lot of Beaufort Street presented by Columbia Classic Chevy Club.</li>\n	<li style="padding: 0px\; margin: 0px\; line-height: 1.2\; color: rgb(0\, 0\, 0)\;">Over 130 Vendors with Children&#39\;s Play Area and three bounce houses.</li>\n	<li style="padding: 0px\; margin: 0px\; line-height: 1.2\; color: rgb(0\, 0\, 0)\;">Chapin Library Book Sale immediately following the parade at Town Hall. Sale ends at 2:00 pm.</li>\n	<li style="padding: 0px\; margin: 0px\; line-height: 1.2\; color: rgb(0\, 0\, 0)\;">AMROC Model Train Exhibit held in the American Legion Post 193 Building.</li>\n</ul>\n<br />\n&nbsp\;
LOCATION:Downtown Chapin and areas
UID:e.1644.2518
SEQUENCE:3
DTSTAMP:20260426T005453Z
URL:https://business.chapinchamber.com/events/details/chapin-labor-day-festival-and-parade-2019-2518
END:VEVENT

END:VCALENDAR
