BEGIN:VCALENDAR
VERSION:2.0
PRODID:-//ChamberMaster//Event Calendar 2.0//EN
METHOD:PUBLISH
X-PUBLISHED-TTL:P3D
REFRESH-INTERVAL:P3D
CALSCALE:GREGORIAN
BEGIN:VEVENT
DTSTART;VALUE=DATE:20180901
DTEND;VALUE=DATE:20180904
TRANSP:TRANSPARENT
X-MICROSOFT-CDO-ALLDAYEVENT:TRUE
SUMMARY:Chapin Labor Day Festival and Parade
DESCRIPTION:Chapin's 39th Annual Labor Day Festival & Parade\n\nFestival Vendor Form 2018\n\nFood Vendor Form 2018\n\nParade Form 2018\n\nSponsorship and Program Advertising Form 2018
X-ALT-DESC;FMTTYPE=text/html:Chapin&#39\;s 39th Annual Labor Day Festival &amp\; Parade<br />\n<a href="https://www.chapinsc.com/DocumentCenter/View/1456/Festival-Vendor-Form-2018">Festival Vendor Form 2018</a><br />\n<a href="https://www.chapinsc.com/DocumentCenter/View/1457/Food-Vendor-Form-2018">Food Vendor Form 2018</a><br />\n<a href="https://www.chapinsc.com/DocumentCenter/View/1458/Parade-Form-2018">Parade Form 2018</a><br />\n<a href="https://www.chapinsc.com/DocumentCenter/View/1473/Sponsorship-and-program-advertising-form-2018">Sponsorship and Program Advertising Form 2018</a><br />\n&nbsp\;
LOCATION:Downtown Chapin and areas
UID:e.1644.2209
SEQUENCE:3
DTSTAMP:20260422T202028Z
URL:https://business.chapinchamber.com/events/details/chapin-labor-day-festival-and-parade-2209
END:VEVENT

END:VCALENDAR
