BEGIN:VCALENDAR
VERSION:2.0
PRODID:-//ChamberMaster//Event Calendar 2.0//EN
METHOD:PUBLISH
X-PUBLISHED-TTL:P3D
REFRESH-INTERVAL:P3D
CALSCALE:GREGORIAN
BEGIN:VEVENT
DTSTART:20191008T213000Z
DTEND:20191009T003000Z
X-MICROSOFT-CDO-ALLDAYEVENT:FALSE
SUMMARY:Chapin Pediatrics Trivia Night
DESCRIPTION:Chapin Pediatrics Presents Trivia Night - Pick Your Brain On - Disney\, The Bible\, Chapin Pediatrics\, Music\, College Football & More!  Inquiries Call (803) 932-2200
X-ALT-DESC;FMTTYPE=text/html:Chapin Pediatrics Presents Trivia Night - Pick Your Brain On - Disney\, The Bible\, Chapin Pediatrics\, Music\, College Football &amp\; More!&nbsp\; Inquiries Call (803) 932-2200
LOCATION:Our Lady of the Lake Catholic Church 195 Amicks Ferry Road\, Chapin
UID:e.1644.2540
SEQUENCE:3
DTSTAMP:20260426T004401Z
URL:https://business.chapinchamber.com/events/details/chapin-pediatrics-trivia-night-2540
END:VEVENT

END:VCALENDAR
