BEGIN:VCALENDAR
VERSION:2.0
PRODID:-//ChamberMaster//Event Calendar 2.0//EN
METHOD:PUBLISH
X-PUBLISHED-TTL:P3D
REFRESH-INTERVAL:P3D
CALSCALE:GREGORIAN
BEGIN:VEVENT
DTSTART:20191010T213000Z
DTEND:20191010T223000Z
X-MICROSOFT-CDO-ALLDAYEVENT:FALSE
SUMMARY:Chapin Smiles Ribbon Cutting
DESCRIPTION:Please join us as we welcome Chapin Smiles Dentistry into the Chapin Community with a ribbon cutting.
X-ALT-DESC;FMTTYPE=text/html:Please join us as we welcome Chapin Smiles Dentistry into the Chapin Community with a ribbon cutting.
LOCATION:1221 Chapin Road\, Ste A\, Chapin SC
UID:e.1644.2533
SEQUENCE:3
DTSTAMP:20260425T231604Z
URL:https://business.chapinchamber.com/events/details/chapin-smiles-ribbon-cutting-2533
END:VEVENT

END:VCALENDAR
